BEGIN:VCALENDAR
VERSION:2.0
PRODID:-//FNOMCeO - ECPv5.16.4//NONSGML v1.0//EN
CALSCALE:GREGORIAN
METHOD:PUBLISH
X-WR-CALNAME:FNOMCeO
X-ORIGINAL-URL:https://portale.fnomceo.it
X-WR-CALDESC:Eventi per FNOMCeO
BEGIN:VTIMEZONE
TZID:Europe/Rome
BEGIN:DAYLIGHT
TZOFFSETFROM:+0100
TZOFFSETTO:+0200
TZNAME:CEST
DTSTART:20240331T010000
END:DAYLIGHT
BEGIN:STANDARD
TZOFFSETFROM:+0200
TZOFFSETTO:+0100
TZNAME:CET
DTSTART:20241027T010000
END:STANDARD
END:VTIMEZONE
BEGIN:VEVENT
DTSTART;TZID=Europe/Rome:20240417T200000
DTEND;TZID=Europe/Rome:20240417T223000
DTSTAMP:20260424T061932
CREATED:20240325T104859Z
LAST-MODIFIED:20240325T104859Z
UID:76640-1713384000-1713393000@portale.fnomceo.it
SUMMARY:Bergamo\, "La sanità all'epoca del cambiamenti climatici"
DESCRIPTION:“La sanità all’epoca del cambiamenti climatici”\nBergamo\, Sede Ordine\n17 aprile 2024 \nSi terrà presso la sede OMCeO di Bergamo l’evento ECM “La sanità all’epoca del cambiamenti climatici”. L’evento vuole fornire le conoscenze basilari relative all’impatto sul clima delle attività sanitarie\, al fine di indirizzare i colleghi verso una maggiore consapevolezza sul tema e\, sperabilmente\, verso scelte che consentano loro di proseguire le proprie attività abbassandone l’impatto sul clima globale.
URL:https://portale.fnomceo.it/eventi-fnomceo/bergamo-la-sanita-allepoca-del-cambiamenti-climatici/
LOCATION:Bergamo\, Sede OMCeO\, Via Manzù 25\, Bergamo\, Italia
CATEGORIES:Eventi degli Ordini,Formazione e aggiornamento
GEO:45.6922858;9.6597709
X-APPLE-STRUCTURED-LOCATION;VALUE=URI;X-ADDRESS=Bergamo Sede OMCeO Via Manzù 25 Bergamo Italia;X-APPLE-RADIUS=500;X-TITLE=Via Manzù 25:geo:9.6597709,45.6922858
END:VEVENT
END:VCALENDAR