BEGIN:VCALENDAR
VERSION:2.0
PRODID:-//FNOMCeO - ECPv5.16.4//NONSGML v1.0//EN
CALSCALE:GREGORIAN
METHOD:PUBLISH
X-WR-CALNAME:FNOMCeO
X-ORIGINAL-URL:https://portale.fnomceo.it
X-WR-CALDESC:Eventi per FNOMCeO
BEGIN:VTIMEZONE
TZID:Europe/Rome
BEGIN:DAYLIGHT
TZOFFSETFROM:+0100
TZOFFSETTO:+0200
TZNAME:CEST
DTSTART:20240331T010000
END:DAYLIGHT
BEGIN:STANDARD
TZOFFSETFROM:+0200
TZOFFSETTO:+0100
TZNAME:CET
DTSTART:20241027T010000
END:STANDARD
END:VTIMEZONE
BEGIN:VEVENT
DTSTART;TZID=Europe/Rome:20240504T080000
DTEND;TZID=Europe/Rome:20240504T140000
DTSTAMP:20260424T043914
CREATED:20240405T093921Z
LAST-MODIFIED:20240405T093921Z
UID:76934-1714809600-1714831200@portale.fnomceo.it
SUMMARY:Torino\, "Il contenzioso in odontoiatria: tra tutela del paziente e responsabilità dell’odontoiatra"
DESCRIPTION:“Il contenzioso in odontoiatria: tra tutela del paziente e responsabilità dell’odontoiatra”\nTorino\, Villa Raby\n4 maggio 2024 \nSi terrà a Torino\, presso la sede dell’Ordine a Villa Raby\, il corso ECM dal titolo “Il contenzioso in odontoiatria: tra tutela del paziente e responsabilità dell’odontoiatra”. Si tratteranno temi come il consenso informato e la gestione della cartella clinica. \nEvento n. 4196-413448\n6.5 crediti ECM\, accreditato per Medici Chirurghi e Odontoiatri. \nA cura della Commissione Albo Odontoiatri dell’OMCeO Torino\, organizzato in collaborazione con la SIOF.
URL:https://portale.fnomceo.it/eventi-fnomceo/torino-il-contenzioso-in-odontoiatria-tra-tutela-del-paziente-e-responsabilita-dellodontoiatra/
LOCATION:Torino\, villa Raby\, Corso Francia\, 8\, Torino\, 10143\, Italia
CATEGORIES:Eventi degli Ordini,Formazione e aggiornamento
ATTACH;FMTTYPE=image/jpeg:https://portale.fnomceo.it/wp-content/uploads/2023/08/odontoiatri-dentisti-evidenza-strumentazione-strumenti.jpg
GEO:45.0767147;7.666043
X-APPLE-STRUCTURED-LOCATION;VALUE=URI;X-ADDRESS=Torino villa Raby Corso Francia 8 Torino 10143 Italia;X-APPLE-RADIUS=500;X-TITLE=Corso Francia\, 8:geo:7.666043,45.0767147
END:VEVENT
BEGIN:VEVENT
DTSTART;TZID=Europe/Rome:20240504T080000
DTEND;TZID=Europe/Rome:20240504T140000
DTSTAMP:20260424T043914
CREATED:20240422T122643Z
LAST-MODIFIED:20240422T122643Z
UID:77285-1714809600-1714831200@portale.fnomceo.it
SUMMARY:Lucca\, "Nuovi orientamenti in odontoiatria conservativa"
DESCRIPTION:“Nuovi orientamenti in odontoiatria conservativa”\nLucca\, Museo casa del Boia\n4 maggio 2024 \nSi terrà a Lucca il 4 maggio il corso “Nuovi orientamenti in odontoiatria conservativa”. L’evento presenta le ultime innovazioni\, tecniche e metodologie nel settore dell’odontoiatria focalizzate sulla conservazione dei tessuti dentali.
URL:https://portale.fnomceo.it/eventi-fnomceo/lucca-nuovi-orientamenti-in-odontoiatria-conservativa/
LOCATION:Lucca\, Casa del Boia\, Via dei Bacchettoni\, 10\, Lucca\, 55100\, Italia
CATEGORIES:Eventi degli Ordini,Formazione e aggiornamento
ATTACH;FMTTYPE=image/png:https://portale.fnomceo.it/wp-content/uploads/2024/04/Convegno-a-Lucca2.png
GEO:43.8458074;10.5141145
X-APPLE-STRUCTURED-LOCATION;VALUE=URI;X-ADDRESS=Lucca Casa del Boia Via dei Bacchettoni 10 Lucca 55100 Italia;X-APPLE-RADIUS=500;X-TITLE=Via dei Bacchettoni\, 10:geo:10.5141145,43.8458074
END:VEVENT
BEGIN:VEVENT
DTSTART;TZID=Europe/Rome:20240504T083000
DTEND;TZID=Europe/Rome:20240504T140000
DTSTAMP:20260424T043914
CREATED:20240422T093156Z
LAST-MODIFIED:20240422T093156Z
UID:77279-1714811400-1714831200@portale.fnomceo.it
SUMMARY:Sassari\, "L'endoscopia digestiva operativa: stato dell'arte e prospettive future"
DESCRIPTION:“L’endoscopia digestiva operativa: stato dell’arte e prospettive future”\nSassari\, Hotel Grazia Deledda\n04 maggio 2024 \nL’Ordine dei Medici Chirurghi e degli Odontoiatri della provincia di Sassari ha organizzato il corso dal titolo “L’endoscopia digestiva operativa: stato dell’arte e prospettive future”\, Edizione n. 1\, che si terrà sabato 4 maggio a Sassari. Questo corso offre una panoramica sui principi della documentazione clinica e sui percorsi di cura integrata. Rivolto a operatori sanitari e professionisti della salute\, fornirà competenze per gestire dati clinici\, coordinare attività diagnostiche e terapeutiche\, e personalizzare le cure in base alle esigenze dei pazienti.
URL:https://portale.fnomceo.it/eventi-fnomceo/sassari-lendoscopia-digestiva-operativa-stato-dellarte-e-prospettive-future/
LOCATION:Sassari\, Hotel Grazia Deledda\, Viale Dante n. 47\, Sassari\, Italia
CATEGORIES:Eventi degli Ordini,Formazione e aggiornamento
ORGANIZER;CN="OMCeO%20Sassari":MAILTO:ordine@omceoss.org
GEO:40.71871;8.56681
X-APPLE-STRUCTURED-LOCATION;VALUE=URI;X-ADDRESS=Sassari Hotel Grazia Deledda Viale Dante n. 47 Sassari Italia;X-APPLE-RADIUS=500;X-TITLE=Viale Dante n. 47:geo:8.56681,40.71871
END:VEVENT
END:VCALENDAR