BEGIN:VCALENDAR
VERSION:2.0
PRODID:-//FNOMCeO - ECPv5.16.4//NONSGML v1.0//EN
CALSCALE:GREGORIAN
METHOD:PUBLISH
X-WR-CALNAME:FNOMCeO
X-ORIGINAL-URL:https://portale.fnomceo.it
X-WR-CALDESC:Eventi per FNOMCeO
BEGIN:VTIMEZONE
TZID:Europe/Rome
BEGIN:DAYLIGHT
TZOFFSETFROM:+0100
TZOFFSETTO:+0200
TZNAME:CEST
DTSTART:20240331T010000
END:DAYLIGHT
BEGIN:STANDARD
TZOFFSETFROM:+0200
TZOFFSETTO:+0100
TZNAME:CET
DTSTART:20241027T010000
END:STANDARD
END:VTIMEZONE
BEGIN:VEVENT
DTSTART;TZID=Europe/Rome:20240511T080000
DTEND;TZID=Europe/Rome:20240511T130000
DTSTAMP:20260424T044043
CREATED:20240329T113020Z
LAST-MODIFIED:20240415T091538Z
UID:76817-1715414400-1715432400@portale.fnomceo.it
SUMMARY:Rimini\, Convegno “Relazione tra linguaggio e genere: i canali della comunicazione”
DESCRIPTION:Convegno “Relazione tra linguaggio e genere: i canali della comunicazione”\nRimini\, Palazzo del Turismo – Sala Convegni\n11 maggio 20245  \nSi svolgerà a Rimini il Convegno “Relazione tra linguaggio e genere: i canali della comunicazione” dedicato alla medicina di genere\, che affronterà in particolare le questioni relative alla comunicazione e alla relazione col paziente. \n\nEvento patrocinato FNOMCeO
URL:https://portale.fnomceo.it/eventi-fnomceo/rimini-convegno-relazione-tra-linguaggio-e-genere-i-canali-della-comunicazione/
LOCATION:Rimini\, Palazzo del Turismo\, piazza fellini 3\, rimini\, Italia
CATEGORIES:Eventi degli Ordini,Eventi patrocinati,Formazione e aggiornamento,Medicina di Genere
GEO:44.0711864;12.5765334
X-APPLE-STRUCTURED-LOCATION;VALUE=URI;X-ADDRESS=Rimini Palazzo del Turismo piazza fellini 3 rimini Italia;X-APPLE-RADIUS=500;X-TITLE=piazza fellini 3:geo:12.5765334,44.0711864
END:VEVENT
BEGIN:VEVENT
DTSTART;TZID=Europe/Rome:20240511T080000
DTEND;TZID=Europe/Rome:20240511T140000
DTSTAMP:20260424T044043
CREATED:20240424T125748Z
LAST-MODIFIED:20240424T125748Z
UID:77313-1715414400-1715436000@portale.fnomceo.it
SUMMARY:Sassari\, "VI^ Giornata Sassarese di Medicina Legale"
DESCRIPTION:“VI^ Giornata Sassarese di Medicina Legale”\nSassari\, Hotel Grazia Deledda\n11 Maggio 2024 \nL’Ordine dei Medici Chirurghi e degli Odontoiatri della provincia di Sassari ha organizzato il corso dal titolo “VI^ Giornata sassarese di Medicina legale”\, che si terrà sabato 11 maggio 2024. Quest’evento si concentrerà sull’approfondimento di tematiche quali la sanità digitale\, l’uso della lingua inglese nel contesto scientifico\, e l’analisi della normativa riguardante il settore sanitario.
URL:https://portale.fnomceo.it/eventi-fnomceo/sassari-vi-giornata-sassarese-di-medicina-legale/
LOCATION:Sassari\, Hotel Grazia Deledda\, Viale Dante n. 47\, Sassari\, Italia
CATEGORIES:Eventi degli Ordini,Formazione e aggiornamento
ORGANIZER;CN="OMCeO%20Sassari":MAILTO:ordine@omceoss.org
GEO:40.71871;8.56681
X-APPLE-STRUCTURED-LOCATION;VALUE=URI;X-ADDRESS=Sassari Hotel Grazia Deledda Viale Dante n. 47 Sassari Italia;X-APPLE-RADIUS=500;X-TITLE=Viale Dante n. 47:geo:8.56681,40.71871
END:VEVENT
BEGIN:VEVENT
DTSTART;TZID=Europe/Rome:20240511T080000
DTEND;TZID=Europe/Rome:20240511T140000
DTSTAMP:20260424T044043
CREATED:20240509T103500Z
LAST-MODIFIED:20240509T103500Z
UID:77535-1715414400-1715436000@portale.fnomceo.it
SUMMARY:Lucca\, "La fertilità come bene salute"
DESCRIPTION:“La fertilità come bene salute”\nLucca\, Casa del Boia\n11 maggio 2024 \n  \nSi terrà sabato 11 maggio\, presso la Casa del Boia sulle Mura Urbane\, l’evento ECM “La fertilità come bene salute” durante il quale si affronteranno tematiche legate alla riduzione della natalità nel nostro Paese e il suo legame coi cambiamenti culturali\, sociologici ed economici.
URL:https://portale.fnomceo.it/eventi-fnomceo/lucca-la-fertilita-come-bene-salute/
LOCATION:Lucca\, Casa del Boia\, Via dei Bacchettoni\, 10\, Lucca\, 55100\, Italia
CATEGORIES:Eventi degli Ordini,Formazione e aggiornamento
GEO:43.8458074;10.5141145
X-APPLE-STRUCTURED-LOCATION;VALUE=URI;X-ADDRESS=Lucca Casa del Boia Via dei Bacchettoni 10 Lucca 55100 Italia;X-APPLE-RADIUS=500;X-TITLE=Via dei Bacchettoni\, 10:geo:10.5141145,43.8458074
END:VEVENT
BEGIN:VEVENT
DTSTART;TZID=Europe/Rome:20240511T090000
DTEND;TZID=Europe/Rome:20240511T130000
DTSTAMP:20260424T044043
CREATED:20240506T095818Z
LAST-MODIFIED:20240506T095818Z
UID:77449-1715418000-1715432400@portale.fnomceo.it
SUMMARY:Milano\, "Fake news e complottismo in medicina"
DESCRIPTION:“Fake news e complottismo in medicina”\nMilano\, Università degli Studi di Milano\n11 maggio 2024 \nL’evento “Fake news e complottismo in medicina” affronta il problema della disinformazione nel campo della salute\, esplorando i meccanismi che portano alla diffusione di teorie del complotto e disinformazione medica\, concentrandosi sulla mancanza di fiducia nelle istituzioni scientifiche e sulle distorsioni cognitive. L’evento mira a sensibilizzare sul discernimento tra fonti affidabili e informazioni fuorvianti\, promuovendo la pratica della verifica delle fonti.\nSaranno presenti come relatori anche Alessandro Conte\, coordinatore del sito «Dottore\, ma è vero che?»\, e Roberta Villa\, giornalista scientifica per «Dottore\, ma è vero che?».
URL:https://portale.fnomceo.it/eventi-fnomceo/milano-fake-news-e-complottismo-in-medicina/
LOCATION:Milano\, UNIMI – Aula 111\, Via festa del perdono 7\, milano\, Italia
CATEGORIES:Eventi degli Ordini,Formazione e aggiornamento
GEO:45.4608706;9.1944992
X-APPLE-STRUCTURED-LOCATION;VALUE=URI;X-ADDRESS=Milano UNIMI – Aula 111 Via festa del perdono 7 milano Italia;X-APPLE-RADIUS=500;X-TITLE=Via festa del perdono 7:geo:9.1944992,45.4608706
END:VEVENT
END:VCALENDAR