BEGIN:VCALENDAR
VERSION:2.0
PRODID:-//FNOMCeO - ECPv5.16.4//NONSGML v1.0//EN
CALSCALE:GREGORIAN
METHOD:PUBLISH
X-WR-CALNAME:FNOMCeO
X-ORIGINAL-URL:https://portale.fnomceo.it
X-WR-CALDESC:Eventi per FNOMCeO
BEGIN:VTIMEZONE
TZID:Europe/Rome
BEGIN:DAYLIGHT
TZOFFSETFROM:+0100
TZOFFSETTO:+0200
TZNAME:CEST
DTSTART:20240331T010000
END:DAYLIGHT
BEGIN:STANDARD
TZOFFSETFROM:+0200
TZOFFSETTO:+0100
TZNAME:CET
DTSTART:20241027T010000
END:STANDARD
END:VTIMEZONE
BEGIN:VEVENT
DTSTART;TZID=Europe/Rome:20240518T080000
DTEND;TZID=Europe/Rome:20240518T150000
DTSTAMP:20260424T044043
CREATED:20240417T091859Z
LAST-MODIFIED:20240417T091859Z
UID:77092-1716019200-1716044400@portale.fnomceo.it
SUMMARY:Fano\, “Vita nascente: aspetti etici\, teologici\, medici e giuridici”
DESCRIPTION:Convegno “Vita nascente: aspetti etici\, teologici\, medici e giuridici”\nFano (PU)\, Centro Pastorale Diocesano\n18 maggio 2024 \n\nSi terrà a Fano il convegno “Vita nascente: aspetti etici\, teologici\, medici e giuridici”. L’evento si concentra sulla tematica della vita nascente\, esaminando aspetti etici\, teologici\, medici e giuridici legati alla nascita e allo sviluppo del bambino. \n\nEvento patrocinato FNOMCeO
URL:https://portale.fnomceo.it/eventi-fnomceo/fano-vita-nascente-aspetti-etici-teologici-medici-e-giuridici/
LOCATION:Fano\, Centro Pastorale Diocesano\, Via Roma\, 118\, Fano\, Italia
CATEGORIES:Eventi degli Ordini,Eventi patrocinati,Formazione e aggiornamento
GEO:43.8382542;13.008015
X-APPLE-STRUCTURED-LOCATION;VALUE=URI;X-ADDRESS=Fano Centro Pastorale Diocesano Via Roma 118 Fano Italia;X-APPLE-RADIUS=500;X-TITLE=Via Roma\, 118:geo:13.008015,43.8382542
END:VEVENT
BEGIN:VEVENT
DTSTART;TZID=Europe/Rome:20240518T080000
DTEND;TZID=Europe/Rome:20240518T140000
DTSTAMP:20260424T044043
CREATED:20240503T132616Z
LAST-MODIFIED:20240503T132616Z
UID:77426-1716019200-1716040800@portale.fnomceo.it
SUMMARY:Pescara\, "L'articolazione temporo-mandibolare nella pratica clinica quotidiana in medicina ed odontoiatria"
DESCRIPTION: “L’articolazione temporo-mandibolare nella pratica clinica quotidiana in medicina ed odontoiatria”\nPescara\, Auditorium Petruzzi\n18 maggio 2024 \nSi terrà all’Auditorium Petruzzi di Pescara l’evento “L’articolazione temporo-mandibolare nella pratica clinica quotidiana in medicina ed odontoiatria” durante il quale verranno approfondite tecniche diagnostiche e terapie più efficaci per gestire le disfunzioni più comuni e per fornire agli operatori sanitari strumenti pratici e aggiornamenti per migliorare la qualità dell’assistenza ai pazienti.
URL:https://portale.fnomceo.it/eventi-fnomceo/pescara-larticolazione-temporo-mandibolare-nella-pratica-clinica-quotidiana-in-medicina-ed-odontoiatria/
LOCATION:Pescara\, Auditorium Petruzzi\, Via delle Caserme\, 60\, Pescara\, Italia
CATEGORIES:Eventi degli Ordini,Formazione e aggiornamento
ATTACH;FMTTYPE=image/png:https://portale.fnomceo.it/wp-content/uploads/2024/05/18maggiopescara.png
GEO:42.461625;14.2120069
X-APPLE-STRUCTURED-LOCATION;VALUE=URI;X-ADDRESS=Pescara Auditorium Petruzzi Via delle Caserme 60 Pescara Italia;X-APPLE-RADIUS=500;X-TITLE=Via delle Caserme\, 60:geo:14.2120069,42.461625
END:VEVENT
END:VCALENDAR