BEGIN:VCALENDAR
VERSION:2.0
PRODID:-//FNOMCeO - ECPv5.16.4//NONSGML v1.0//EN
CALSCALE:GREGORIAN
METHOD:PUBLISH
X-WR-CALNAME:FNOMCeO
X-ORIGINAL-URL:https://portale.fnomceo.it
X-WR-CALDESC:Eventi per FNOMCeO
BEGIN:VTIMEZONE
TZID:Europe/Rome
BEGIN:DAYLIGHT
TZOFFSETFROM:+0100
TZOFFSETTO:+0200
TZNAME:CEST
DTSTART:20240331T010000
END:DAYLIGHT
BEGIN:STANDARD
TZOFFSETFROM:+0200
TZOFFSETTO:+0100
TZNAME:CET
DTSTART:20241027T010000
END:STANDARD
END:VTIMEZONE
BEGIN:VEVENT
DTSTART;TZID=Europe/Rome:20241016T163000
DTEND;TZID=Europe/Rome:20241016T170000
DTSTAMP:20260423T203346
CREATED:20241003T152124Z
LAST-MODIFIED:20241003T152124Z
UID:80231-1729096200-1729098000@portale.fnomceo.it
SUMMARY:Roma\, Presentazione del libro "Volevo solo fare il medico. Storie di aggressioni\, mobbing e maxi risarcimenti"
DESCRIPTION:Presentazione del libro “Volevo solo fare il medico. Storie di aggressioni\, mobbing e maxi risarcimenti”\nRoma\, Federazione Nazionale della Stampa\n16 ottobre 2024 \nMercoledì 16 ottobre Giovanni del Giaccio presenterà il suo libro\, presso la Federazione Nazionale della Stampa a Roma\, nel quale raccoglie le storie di medici vittime di violenze da parte di pazienti e familiari. L’incontro sarà moderato dalla giornalista Carla Massi e sarà presente anche il presidente FNOMCeO Filippo Anelli.
URL:https://portale.fnomceo.it/eventi-fnomceo/roma-presentazione-del-libro-volevo-solo-fare-il-medico-storie-di-aggressioni-mobbing-e-maxi-risarcimenti/
LOCATION:Roma\, Federazione Nazionale Stampa Italiana – Sala Walter Tobagi\, Via delle Botteghe Oscure 54\, Roma
CATEGORIES:Eventi degli Ordini
ATTACH;FMTTYPE=image/jpeg:https://portale.fnomceo.it/wp-content/uploads/2024/10/presentazionelibro1610.jpeg
GEO:41.8950866;12.4796213
X-APPLE-STRUCTURED-LOCATION;VALUE=URI;X-ADDRESS=Roma Federazione Nazionale Stampa Italiana – Sala Walter Tobagi Via delle Botteghe Oscure 54 Roma;X-APPLE-RADIUS=500;X-TITLE=Via delle Botteghe Oscure 54:geo:12.4796213,41.8950866
END:VEVENT
END:VCALENDAR