BEGIN:VCALENDAR
VERSION:2.0
PRODID:-//FNOMCeO - ECPv5.16.4//NONSGML v1.0//EN
CALSCALE:GREGORIAN
METHOD:PUBLISH
X-WR-CALNAME:FNOMCeO
X-ORIGINAL-URL:https://portale.fnomceo.it
X-WR-CALDESC:Eventi per FNOMCeO
BEGIN:VTIMEZONE
TZID:Europe/Rome
BEGIN:DAYLIGHT
TZOFFSETFROM:+0100
TZOFFSETTO:+0200
TZNAME:CEST
DTSTART:20240331T010000
END:DAYLIGHT
BEGIN:STANDARD
TZOFFSETFROM:+0200
TZOFFSETTO:+0100
TZNAME:CET
DTSTART:20241027T010000
END:STANDARD
END:VTIMEZONE
BEGIN:VEVENT
DTSTART;TZID=Europe/Rome:20241113T200000
DTEND;TZID=Europe/Rome:20241113T230000
DTSTAMP:20260423T172232
CREATED:20241017T085526Z
LAST-MODIFIED:20241017T085526Z
UID:80552-1731528000-1731538800@portale.fnomceo.it
SUMMARY:Brescia\, "Regolamento Europeo dispositivi medici (MDR n. 745/2017): quali ricadute sui clinici"
DESCRIPTION:“Regolamento Europeo dispositivi medici (MDR n. 745/2017): quali ricadute sui clinici”\nBrescia\, Sede OMCeO\n13 novembre 2024 \nSi terrà presso la Sala Conferenze Ordine Medici Chirurghi e Odontoiatri di Brescia l’evento dedicato al Regolamento Europeo sui dispositivi medici (MDR n. 745/2017).\n\nL’evento è rivolto in via prioritaria agli odontoiatri e ai medici ma è anche aperto a tutta la popolazione in streaming collegandosi al link https://attendee.gotowebinar.com/register/4045876673064921173
URL:https://portale.fnomceo.it/eventi-fnomceo/brescia-regolamento-europeo-dispositivi-medici-mdr-n-745-2017-quali-ricadute-sui-clinici/
LOCATION:OMCeO Brescia\, via Lamarmora 167\, Brescia\, Italia
CATEGORIES:Eventi degli Ordini
ATTACH;FMTTYPE=image/jpeg:https://portale.fnomceo.it/wp-content/uploads/2023/08/odontoiatri-dentisti-evidenza.jpg
ORGANIZER;CN="OMCeO%20Brescia":MAILTO:ufficiostampa@ordinemedici.brescia.it
GEO:45.5215428;10.2127308
X-APPLE-STRUCTURED-LOCATION;VALUE=URI;X-ADDRESS=OMCeO Brescia via Lamarmora 167 Brescia Italia;X-APPLE-RADIUS=500;X-TITLE=via Lamarmora 167:geo:10.2127308,45.5215428
END:VEVENT
END:VCALENDAR