BEGIN:VCALENDAR
VERSION:2.0
PRODID:-//FNOMCeO - ECPv5.16.4//NONSGML v1.0//EN
CALSCALE:GREGORIAN
METHOD:PUBLISH
X-WR-CALNAME:FNOMCeO
X-ORIGINAL-URL:https://portale.fnomceo.it
X-WR-CALDESC:Eventi per FNOMCeO
BEGIN:VTIMEZONE
TZID:Europe/Rome
BEGIN:DAYLIGHT
TZOFFSETFROM:+0100
TZOFFSETTO:+0200
TZNAME:CEST
DTSTART:20240331T010000
END:DAYLIGHT
BEGIN:STANDARD
TZOFFSETFROM:+0200
TZOFFSETTO:+0100
TZNAME:CET
DTSTART:20241027T010000
END:STANDARD
END:VTIMEZONE
BEGIN:VEVENT
DTSTART;TZID=Europe/Rome:20241116T080000
DTEND;TZID=Europe/Rome:20241116T150000
DTSTAMP:20260423T122605
CREATED:20241001T092031Z
LAST-MODIFIED:20241001T092031Z
UID:80105-1731744000-1731769200@portale.fnomceo.it
SUMMARY:Palermo\, "Gestione Multidisciplinare delle OSAS in età adulta e pediatrica: dalla diagnosi alla terapia"
DESCRIPTION:“Gestione Multidisciplinare delle OSAS in età adulta e pediatrica: dalla diagnosi alla terapia”\nPalermo\, Villa Magnisi\n16 novembre 2024 \nI disturbi respiratori del sonno ed in particolare la Sindrome delle Apnee Ostruttive del Sonno (OSAS)\, costituiscono un problema frequente di rilevanza crescente nella società sia per i rischi di incidente\, lavorativo e stradale da sonnolenza diurna\, sia per le conseguenze cardiovascolari e neurologiche. Se ne parlerà durante l’evento “Gestione Multidisciplinare delle OSAS in età adulta e pediatrica: dalla diagnosi alla terapia”\, che si terrà a Palermo il 16 novembre.
URL:https://portale.fnomceo.it/eventi-fnomceo/palermo-gestione-multidisciplinare-delle-osas-in-eta-adulta-e-pediatrica-dalla-diagnosi-alla-terapia/
LOCATION:Palermo\, Villa Magnisi\, Via Rosario da Partanna Padre\, 22\, Palermo\, 90146\, Italia
CATEGORIES:Eventi degli Ordini,Formazione e aggiornamento
GEO:38.1705472;13.3234564
X-APPLE-STRUCTURED-LOCATION;VALUE=URI;X-ADDRESS=Palermo Villa Magnisi Via Rosario da Partanna Padre 22 Palermo 90146 Italia;X-APPLE-RADIUS=500;X-TITLE=Via Rosario da Partanna Padre\, 22:geo:13.3234564,38.1705472
END:VEVENT
BEGIN:VEVENT
DTSTART;TZID=Europe/Rome:20241116T090000
DTEND;TZID=Europe/Rome:20241116T170000
DTSTAMP:20260423T122605
CREATED:20241107T145358Z
LAST-MODIFIED:20241107T145358Z
UID:81029-1731747600-1731776400@portale.fnomceo.it
SUMMARY:Rimini\, "XII Corso di alta specializzazione di etica medica"
DESCRIPTION:“XII Corso di alta specializzazione di etica medica”\n“Salute globale\, intelligenza artificiale e comunicazione in sanità di fronte alle crisi contemporanee”\nRimini\, Centro Congressi\n16 novembre 2024 \nSi terrà il 16 novembre la prima giornata del “XII Corso di alta specializzazione di etica medica”\, dal titolo “Salute globale\, intelligenza artificiale e comunicazione in sanità di fronte alle crisi contemporanee”. In programma a Rimini in quattro appuntamenti (16 novembre 2024\, 14 dicembre 2024\, 17 e 18 gennaio 2025)\, il corso affronterà tematiche cruciali legate all’etica medica in un contesto globale caratterizzato da rapide trasformazioni e sfide senza precedenti. \nIl programma esplorerà l’impatto dell’intelligenza artificiale sulla pratica medica\, le dinamiche della comunicazione in sanità\, e la gestione delle crisi globali per una risposta sanitaria etica e responsabile. Attraverso l’intervento di esperti e relatori di rilievo\, i partecipanti avranno l’opportunità di confrontarsi su strategie innovative e riflettere sugli interrogativi etici legati alla salute pubblica in un mondo in continuo cambiamento. \n 
URL:https://portale.fnomceo.it/eventi-fnomceo/rimini-xii-corso-di-alta-specializzazione-di-etica-medica/
LOCATION:Rimini\, Centro Congressi SGR\, Via Gabriello Chiabrera\, 34 D\, Rimini\, 47924\, Italia
CATEGORIES:Eventi degli Ordini,Formazione e aggiornamento
GEO:44.0471489;12.5948495
X-APPLE-STRUCTURED-LOCATION;VALUE=URI;X-ADDRESS=Rimini Centro Congressi SGR Via Gabriello Chiabrera 34 D Rimini 47924 Italia;X-APPLE-RADIUS=500;X-TITLE=Via Gabriello Chiabrera\, 34 D:geo:12.5948495,44.0471489
END:VEVENT
BEGIN:VEVENT
DTSTART;TZID=Europe/Rome:20241116T090000
DTEND;TZID=Europe/Rome:20241116T170000
DTSTAMP:20260423T122605
CREATED:20241114T104314Z
LAST-MODIFIED:20241114T104314Z
UID:81202-1731747600-1731776400@portale.fnomceo.it
SUMMARY:Parma\, Assemblea Ordinistica e Festa del Medico
DESCRIPTION:Assemblea Ordinistica e Festa del Medico\nParma\, Sede OMCeO\n16 novembre 2024 \nSi terrà il 16 novembre\, a partire dalle ore 9\, l’assemblea ordinaria annuale dell’Ordine dei Medici di Parma\, che quest’anno coincide con la fine del mandato. Nel corso dell’appuntamento si terrà la relazione morale del presidente Pierantonio Muzzetto\, a cui seguirà il Giuramento di Ippocrate per 101 neoabilitati\, e in conclusione\, dopo una valutazione sulle tematiche odontoiatriche\, si terrà la relazione finanziaria del tesoriere Michele Campari con la presentazione del Bilancio Preventivo 2025.
URL:https://portale.fnomceo.it/eventi-fnomceo/parma-assemblea-ordinistica-e-festa-del-medico/
LOCATION:OMCeO Parma\, Via Po\, 134\, Parma\, Italia
CATEGORIES:Eventi degli Ordini
GEO:44.7862433;10.3238545
X-APPLE-STRUCTURED-LOCATION;VALUE=URI;X-ADDRESS=OMCeO Parma Via Po 134 Parma Italia;X-APPLE-RADIUS=500;X-TITLE=Via Po\, 134:geo:10.3238545,44.7862433
END:VEVENT
BEGIN:VEVENT
DTSTART;TZID=Europe/Rome:20241116T160000
DTEND;TZID=Europe/Rome:20241116T200000
DTSTAMP:20260423T122605
CREATED:20241107T151735Z
LAST-MODIFIED:20241107T151735Z
UID:81044-1731772800-1731787200@portale.fnomceo.it
SUMMARY:Fermo. Giornata del Medico e dell’Odontoiatra
DESCRIPTION:Giornata del Medico e dell’Odontoiatra\nRapagnano\, Teatro Comunale “G. Emiliani”\n16 novembre 2024 \nSi terrà il 16 novembre presso il Teatro Comunale “G. Emiliani” di Rapagnano la Giornata del Medico e dell’Odontoiatra. Durante l’evento verranno conferite le onorificenze ai medici che celebrano il 25° ed il 50° anniversario dalla laurea\, mentre i nuovi iscritti all’albo avranno l’occasione di prestare il giuramento di Ippocrate. \n\nEvento patrocinato FNOMCeO
URL:https://portale.fnomceo.it/eventi-fnomceo/fermo-giornata-del-medico-e-dellodontoiatra/
LOCATION:Rapagnano\, Teatro Comunale\, Via Giacomo Leopardi\, 31\, Rapagnano\, Italia
CATEGORIES:Eventi degli Ordini,Eventi patrocinati
GEO:43.1609796;13.5946837
X-APPLE-STRUCTURED-LOCATION;VALUE=URI;X-ADDRESS=Rapagnano Teatro Comunale Via Giacomo Leopardi 31 Rapagnano Italia;X-APPLE-RADIUS=500;X-TITLE=Via Giacomo Leopardi\, 31:geo:13.5946837,43.1609796
END:VEVENT
END:VCALENDAR