BEGIN:VCALENDAR
VERSION:2.0
PRODID:-//FNOMCeO - ECPv5.16.4//NONSGML v1.0//EN
CALSCALE:GREGORIAN
METHOD:PUBLISH
X-WR-CALNAME:FNOMCeO
X-ORIGINAL-URL:https://portale.fnomceo.it
X-WR-CALDESC:Eventi per FNOMCeO
BEGIN:VTIMEZONE
TZID:Europe/Rome
BEGIN:DAYLIGHT
TZOFFSETFROM:+0100
TZOFFSETTO:+0200
TZNAME:CEST
DTSTART:20250330T010000
END:DAYLIGHT
BEGIN:STANDARD
TZOFFSETFROM:+0200
TZOFFSETTO:+0100
TZNAME:CET
DTSTART:20251026T010000
END:STANDARD
END:VTIMEZONE
BEGIN:VEVENT
DTSTART;TZID=Europe/Rome:20250222T083000
DTEND;TZID=Europe/Rome:20250222T140000
DTSTAMP:20260423T141936
CREATED:20250221T165353Z
LAST-MODIFIED:20250221T165353Z
UID:83036-1740213000-1740232800@portale.fnomceo.it
SUMMARY:Bari\, Convegno “Investire nei professionisti sanitari per garantire la salute della persona”
DESCRIPTION:“Investire nei professionisti sanitari per garantire la salute della persona”\nBari\, Sede OMCeO\n22 febbraio 2025 \nSi terrà il 22 Febbraio a Bari\, presso la sede dell’Ordine dei medici\, il convegno “Investire nei professionisti sanitari per garantire la salute della persona” che farà il punto sulle criticità che oggi affronta il servizio sanitario nazionale alla luce delle carenze di personale e le difficoltà nel garantire in tale contesto la salute dei cittadini. Sarà presente tra gli altri il presidente FNOMCeO Filippo Anelli.
URL:https://portale.fnomceo.it/eventi-fnomceo/bari-convegno-investire-nei-professionisti-sanitari-per-garantire-la-salute-della-persona/
LOCATION:Omceo Bari\, via Capruzzi 157\, Bari\, Italia
CATEGORIES:Eventi degli Ordini,Formazione e aggiornamento
ATTACH;FMTTYPE=image/png:https://portale.fnomceo.it/wp-content/uploads/2025/02/Screenshot-2025-02-21-175143.png
ORGANIZER;CN="OMCeO%20Bari":MAILTO:info@omceo.bari.it
GEO:41.1170598;16.8701205
X-APPLE-STRUCTURED-LOCATION;VALUE=URI;X-ADDRESS=Omceo Bari via Capruzzi 157 Bari Italia;X-APPLE-RADIUS=500;X-TITLE=via Capruzzi 157:geo:16.8701205,41.1170598
END:VEVENT
END:VCALENDAR