BEGIN:VCALENDAR
VERSION:2.0
PRODID:-//FNOMCeO - ECPv5.16.4//NONSGML v1.0//EN
CALSCALE:GREGORIAN
METHOD:PUBLISH
X-WR-CALNAME:FNOMCeO
X-ORIGINAL-URL:https://portale.fnomceo.it
X-WR-CALDESC:Eventi per FNOMCeO
BEGIN:VTIMEZONE
TZID:Europe/Rome
BEGIN:DAYLIGHT
TZOFFSETFROM:+0100
TZOFFSETTO:+0200
TZNAME:CEST
DTSTART:20250330T010000
END:DAYLIGHT
BEGIN:STANDARD
TZOFFSETFROM:+0200
TZOFFSETTO:+0100
TZNAME:CET
DTSTART:20251026T010000
END:STANDARD
END:VTIMEZONE
BEGIN:VEVENT
DTSTART;TZID=Europe/Rome:20250322T080000
DTEND;TZID=Europe/Rome:20250322T140000
DTSTAMP:20260423T125006
CREATED:20250206T163215Z
LAST-MODIFIED:20250221T134653Z
UID:82782-1742630400-1742652000@portale.fnomceo.it
SUMMARY:Rimini\, Convegno “Tutta colpa dell’infiammazione?”
DESCRIPTION:“Tutta colpa dell’infiammazione?”\nRimini\, Centro Congressi SGR\n22 marzo 2025  \nSi terrà il 22 marzo il convegno\, promosso dal Centro di Formazione Medicina di Genere OMCeO Rimini\, dal titolo “Tutta colpa dell’infiammazione?”\, durante il quale verranno approfonditi aspetti legati agli stati infiammatori che si verificano durante l’età avanzata e che sembrano essere legati a numerose patologie del paziente anziano. \nIl convegno è gratuito ed è rivolto a Medici Chirurghi e Odontoiatri\, sono disponibili 100 posti per i quali sono stati riconosciuti n. 5\,2 crediti dal Ministero della Salute. \nÈ possibile iscriversi attraverso il seguente link: https://omceorn.irideweb.it/events/43160114-5033-4959-3fe9-08dd41e11269 \n\nEvento patrocinato FNOMCeO
URL:https://portale.fnomceo.it/eventi-fnomceo/rimini-convegno-tutta-colpa-dellinfiammazione/
LOCATION:Rimini\, Centro Congressi SGR\, Via Gabriello Chiabrera\, 34 D\, Rimini\, 47924\, Italia
CATEGORIES:Eventi degli Ordini,Eventi patrocinati,Formazione e aggiornamento
GEO:44.0471489;12.5948495
X-APPLE-STRUCTURED-LOCATION;VALUE=URI;X-ADDRESS=Rimini Centro Congressi SGR Via Gabriello Chiabrera 34 D Rimini 47924 Italia;X-APPLE-RADIUS=500;X-TITLE=Via Gabriello Chiabrera\, 34 D:geo:12.5948495,44.0471489
END:VEVENT
BEGIN:VEVENT
DTSTART;TZID=Europe/Rome:20250322T080000
DTEND;TZID=Europe/Rome:20250322T140000
DTSTAMP:20260423T125006
CREATED:20250310T153355Z
LAST-MODIFIED:20250310T153355Z
UID:83316-1742630400-1742652000@portale.fnomceo.it
SUMMARY:Pescara\, "Neoformazioni orali e lesioni potenzialmente maligne: dalla diagnosi al trattamento."
DESCRIPTION:“Neoformazioni orali e lesioni potenzialmente maligne: dalla diagnosi al trattamento.”\nPescara\, Auditorium Petruzzi\n22 marzo 2025 \nIl 22 marzo\, presso l’Auditorium Petruzzi di Pescara\, si terrà l’evento formativo dedicato alle lesioni orali potenzialmente maligne. L’incontro\, organizzato dall’OMCeO di Pescara e dalla Commissione Albo Odontoiatri\, vedrà la partecipazione di esperti del settore per approfondire alcune patologie come le leucoplachie\, analizzandole dalla diagnosi al trattamento.
URL:https://portale.fnomceo.it/eventi-fnomceo/pescara-neoformazioni-orali-e-lesioni-potenzialmente-maligne-dalla-diagnosi-al-trattamento/
LOCATION:Pescara\, Auditorium Petruzzi\, Via delle Caserme\, 60\, Pescara\, Italia
CATEGORIES:Eventi degli Ordini,Formazione e aggiornamento
ATTACH;FMTTYPE=image/png:https://portale.fnomceo.it/wp-content/uploads/2025/03/pescara_cao.png
GEO:42.461625;14.2120069
X-APPLE-STRUCTURED-LOCATION;VALUE=URI;X-ADDRESS=Pescara Auditorium Petruzzi Via delle Caserme 60 Pescara Italia;X-APPLE-RADIUS=500;X-TITLE=Via delle Caserme\, 60:geo:14.2120069,42.461625
END:VEVENT
END:VCALENDAR