BEGIN:VCALENDAR
VERSION:2.0
PRODID:-//FNOMCeO - ECPv5.16.4//NONSGML v1.0//EN
CALSCALE:GREGORIAN
METHOD:PUBLISH
X-WR-CALNAME:FNOMCeO
X-ORIGINAL-URL:https://portale.fnomceo.it
X-WR-CALDESC:Eventi per FNOMCeO
BEGIN:VTIMEZONE
TZID:Europe/Rome
BEGIN:DAYLIGHT
TZOFFSETFROM:+0100
TZOFFSETTO:+0200
TZNAME:CEST
DTSTART:20250330T010000
END:DAYLIGHT
BEGIN:STANDARD
TZOFFSETFROM:+0200
TZOFFSETTO:+0100
TZNAME:CET
DTSTART:20251026T010000
END:STANDARD
END:VTIMEZONE
BEGIN:VEVENT
DTSTART;TZID=Europe/Rome:20250329T083000
DTEND;TZID=Europe/Rome:20250329T140000
DTSTAMP:20260423T124925
CREATED:20250221T134459Z
LAST-MODIFIED:20250221T134459Z
UID:83030-1743237000-1743256800@portale.fnomceo.it
SUMMARY:Rimini\, “Il medico del XXI secolo tra evoluzione tecnologica e umanizzazione delle cure”
DESCRIPTION:“Il medico del XXI secolo tra evoluzione tecnologica e umanizzazione delle cure”\nRimini\, Centro Congressi SGR\n29 marzo 2025 \nSi terrà il 29 marzo l’evento dal titolo “Il medico del XXI secolo tra evoluzione tecnologica e umanizzazione delle cure”\, promosso dalla Commissione Giovani dell’OMCeO di Rimini\, durante il quale verranno approfonditi aspetti relativi alla trasformazione della professione medica nel XXI secolo e come le nuove tecnologie influiscano su di essa. \nIl convegno è gratuito e sono stati riconosciuti dal Ministero n. 4 crediti ECM per n. 100 Medici Chirurghi e Odontoiatri.
URL:https://portale.fnomceo.it/eventi-fnomceo/rimini-il-medico-del-xxi-secolo-tra-evoluzione-tecnologica-e-umanizzazione-delle-cure/
LOCATION:Rimini\, Centro Congressi SGR\, Via Gabriello Chiabrera\, 34 D\, Rimini\, 47924\, Italia
CATEGORIES:Eventi degli Ordini,Formazione e aggiornamento
GEO:44.0471489;12.5948495
X-APPLE-STRUCTURED-LOCATION;VALUE=URI;X-ADDRESS=Rimini Centro Congressi SGR Via Gabriello Chiabrera 34 D Rimini 47924 Italia;X-APPLE-RADIUS=500;X-TITLE=Via Gabriello Chiabrera\, 34 D:geo:12.5948495,44.0471489
END:VEVENT
BEGIN:VEVENT
DTSTART;TZID=Europe/Rome:20250329T090000
DTEND;TZID=Europe/Rome:20250329T130000
DTSTAMP:20260423T124925
CREATED:20250321T091937Z
LAST-MODIFIED:20250321T091937Z
UID:83503-1743238800-1743253200@portale.fnomceo.it
SUMMARY:Sassari\, "Tecnologia e multidisciplinarietà: nuovi orizzonti nella chirurgia ospedaliera"
DESCRIPTION:“Tecnologia e multidisciplinarietà: nuovi orizzonti nella chirurgia ospedaliera”\nSassari\, Hotel Grazia Deledda\n29 marzo 2025 \nIl 29 marzo 2025\, presso l’Hotel Grazia Deledda\, si terrà l’evento\, organizzato dall’OMCeO di Sassari\, dal titolo “Tecnologia e multidisciplinarietà: nuovi orizzonti nella chirurgia ospedaliera”. L’incontro offrirà un approfondimento sulle innovazioni tecnologiche in ambito chirurgico e sull’importanza dell’approccio multidisciplinare nella gestione delle patologie\, con focus su endoscopia\, laparoscopia e trattamenti oncologici. Le preiscrizioni saranno aperte venerdì 14 marzo 2025.
URL:https://portale.fnomceo.it/eventi-fnomceo/sassari-tecnologia-e-multidisciplinarieta-nuovi-orizzonti-nella-chirurgia-ospedaliera/
LOCATION:Sassari\, Hotel Grazia Deledda\, Viale Dante n. 47\, Sassari\, Italia
CATEGORIES:Eventi degli Ordini,Formazione e aggiornamento
ORGANIZER;CN="OMCeO%20Sassari":MAILTO:ordine@omceoss.org
GEO:40.71871;8.56681
X-APPLE-STRUCTURED-LOCATION;VALUE=URI;X-ADDRESS=Sassari Hotel Grazia Deledda Viale Dante n. 47 Sassari Italia;X-APPLE-RADIUS=500;X-TITLE=Viale Dante n. 47:geo:8.56681,40.71871
END:VEVENT
END:VCALENDAR