BEGIN:VCALENDAR
VERSION:2.0
PRODID:-//FNOMCeO - ECPv5.16.4//NONSGML v1.0//EN
CALSCALE:GREGORIAN
METHOD:PUBLISH
X-WR-CALNAME:FNOMCeO
X-ORIGINAL-URL:https://portale.fnomceo.it
X-WR-CALDESC:Eventi per FNOMCeO
BEGIN:VTIMEZONE
TZID:Europe/Rome
BEGIN:DAYLIGHT
TZOFFSETFROM:+0100
TZOFFSETTO:+0200
TZNAME:CEST
DTSTART:20250330T010000
END:DAYLIGHT
BEGIN:STANDARD
TZOFFSETFROM:+0200
TZOFFSETTO:+0100
TZNAME:CET
DTSTART:20251026T010000
END:STANDARD
END:VTIMEZONE
BEGIN:VEVENT
DTSTART;TZID=Europe/Rome:20250402T200000
DTEND;TZID=Europe/Rome:20250402T230000
DTSTAMP:20260423T112025
CREATED:20250306T142620Z
LAST-MODIFIED:20250306T142620Z
UID:83248-1743624000-1743634800@portale.fnomceo.it
SUMMARY:Brescia\, "Aggiornamento nel trattamento dei pazienti in terapia con farmaci antiriassorbitivi. Quali sono i rischi?"
DESCRIPTION:“Aggiornamento nel trattamento dei pazienti in terapia con farmaci antiriassorbitivi. Quali sono i rischi?”\nBrescia\, Sede dell’Ordine\n2 aprile 2025 \nSi terrà il 2 aprile il corso\, organizzato dall’OMCeO di Brescia\, dal titolo “Aggiornamento nel trattamento dei pazienti in terapia con farmaci antiriassorbitivi. Quali sono i rischi?”\, durante il quale verranno approfondire le implicazioni cliniche di alcuni trattamenti\, con particolare attenzione ai rischi legati ai farmaci antiriassorbitivi. \nL’evento è rivolto in via prioritaria agli odontoiatri e ai medici ma è anche aperto a tutta la popolazione in streaming collegandosi al link https://attendee.gotowebinar.com/register/7707969481921013597. \nLa partecipazione al corso è gratuita. Iscrizione obbligatoria con SPID o CIE sul sito www.ordinemedici.brescia.it.
URL:https://portale.fnomceo.it/eventi-fnomceo/brescia-aggiornamento-nel-trattamento-dei-pazienti-in-terapia-con-farmaci-antiriassorbitivi-quali-sono-i-rischi/
LOCATION:OMCeO Brescia\, via Lamarmora 167\, Brescia\, Italia
CATEGORIES:Eventi degli Ordini,Formazione e aggiornamento
ATTACH;FMTTYPE=image/png:https://portale.fnomceo.it/wp-content/uploads/2025/03/brescia-2-aprile-25.png
ORGANIZER;CN="OMCeO%20Brescia":MAILTO:ufficiostampa@ordinemedici.brescia.it
GEO:45.5215428;10.2127308
X-APPLE-STRUCTURED-LOCATION;VALUE=URI;X-ADDRESS=OMCeO Brescia via Lamarmora 167 Brescia Italia;X-APPLE-RADIUS=500;X-TITLE=via Lamarmora 167:geo:10.2127308,45.5215428
END:VEVENT
END:VCALENDAR