BEGIN:VCALENDAR
VERSION:2.0
PRODID:-//FNOMCeO - ECPv5.16.4//NONSGML v1.0//EN
CALSCALE:GREGORIAN
METHOD:PUBLISH
X-WR-CALNAME:FNOMCeO
X-ORIGINAL-URL:https://portale.fnomceo.it
X-WR-CALDESC:Eventi per FNOMCeO
BEGIN:VTIMEZONE
TZID:Europe/Rome
BEGIN:DAYLIGHT
TZOFFSETFROM:+0100
TZOFFSETTO:+0200
TZNAME:CEST
DTSTART:20250330T010000
END:DAYLIGHT
BEGIN:STANDARD
TZOFFSETFROM:+0200
TZOFFSETTO:+0100
TZNAME:CET
DTSTART:20251026T010000
END:STANDARD
END:VTIMEZONE
BEGIN:VEVENT
DTSTART;TZID=Europe/Rome:20250703T183000
DTEND;TZID=Europe/Rome:20250703T183000
DTSTAMP:20260422T224611
CREATED:20250623T101022Z
LAST-MODIFIED:20250623T101022Z
UID:84636-1751567400-1751567400@portale.fnomceo.it
SUMMARY:Solarussa\, Intitolazione Piazza a Roberta Zedda
DESCRIPTION:Intitolazione piazza a Roberta Zedda\nSolarussa\, Chiesa della Madonna delle Grazie\n3 luglio 2025 \nIl 3 luglio\, nel ventiduesimo anniversario della sua tragica scomparsa\, la piazza antistante il municipio di Solarussa sarà intitolata a Roberta Zedda\, la giovane dottoressa brutalmente uccisa durante il turno di guardia medica nel 2003. Sarà presente tra gli altri il presidente FNOMCeO Filippo Anelli.
URL:https://portale.fnomceo.it/eventi-fnomceo/solarussa-intitolazione-piazza-a-roberta-zedda/
LOCATION:Solarussa\, Chiesa della Madonna delle Grazie\, Via Is Grazias\, Solarussa (OR)\, Italia
CATEGORIES:Eventi degli Ordini
GEO:39.9538443;8.6695534
X-APPLE-STRUCTURED-LOCATION;VALUE=URI;X-ADDRESS=Solarussa Chiesa della Madonna delle Grazie Via Is Grazias Solarussa (OR) Italia;X-APPLE-RADIUS=500;X-TITLE=Via Is Grazias:geo:8.6695534,39.9538443
END:VEVENT
END:VCALENDAR