BEGIN:VCALENDAR
VERSION:2.0
PRODID:-//FNOMCeO - ECPv5.16.4//NONSGML v1.0//EN
CALSCALE:GREGORIAN
METHOD:PUBLISH
X-WR-CALNAME:FNOMCeO
X-ORIGINAL-URL:https://portale.fnomceo.it
X-WR-CALDESC:Eventi per FNOMCeO
BEGIN:VTIMEZONE
TZID:Europe/Rome
BEGIN:DAYLIGHT
TZOFFSETFROM:+0100
TZOFFSETTO:+0200
TZNAME:CEST
DTSTART:20250330T010000
END:DAYLIGHT
BEGIN:STANDARD
TZOFFSETFROM:+0200
TZOFFSETTO:+0100
TZNAME:CET
DTSTART:20251026T010000
END:STANDARD
END:VTIMEZONE
BEGIN:VEVENT
DTSTART;TZID=Europe/Rome:20251129T080000
DTEND;TZID=Europe/Rome:20251129T140000
DTSTAMP:20260423T000306
CREATED:20251103T115827Z
LAST-MODIFIED:20251103T115827Z
UID:86510-1764403200-1764424800@portale.fnomceo.it
SUMMARY:Brescia\, “Curare è un percorso per ritrovare sé stessi: per chi è curato come per chi cura”
DESCRIPTION:“Curare è un percorso per ritrovare sé stessi: per chi è curato come per chi cura”\nBrescia\, Università degli Studi di Brescia\n29 novembre 2025 \nSi terrà sabato 29 novembre\, presso l’Aula Magna della Facoltà di Medicina e Chirurgia dell’Università degli Studi di Brescia\, l’evento dal titolo “Curare è un percorso per ritrovare sé stessi: per chi è curato come per chi cura”\, organizzato dall’OMCeO di Brescia. L’incontro\, aperto a medici\, odontoiatri\, farmacisti\, infermieri\, operatori sanitari\, studenti e cittadini\, offrirà una riflessione sul significato profondo della cura come esperienza condivisa tra professionista e paziente.
URL:https://portale.fnomceo.it/eventi-fnomceo/brescia-curare-e-un-percorso-per-ritrovare-se-stessi-per-chi-e-curato-come-per-chi-cura/
LOCATION:Brescia\, Università degli Studi di Brescia – Facoltà Medicina e Chirurgia\, Viale Europa\, 11\, Brescia\, 25123\, Italia
CATEGORIES:Eventi degli Ordini,Formazione e aggiornamento
ORGANIZER;CN="OMCeO%20Brescia":MAILTO:ufficiostampa@ordinemedici.brescia.it
GEO:45.5606718;10.2320778
X-APPLE-STRUCTURED-LOCATION;VALUE=URI;X-ADDRESS=Brescia Università degli Studi di Brescia – Facoltà Medicina e Chirurgia Viale Europa 11 Brescia 25123 Italia;X-APPLE-RADIUS=500;X-TITLE=Viale Europa\, 11:geo:10.2320778,45.5606718
END:VEVENT
BEGIN:VEVENT
DTSTART;TZID=Europe/Rome:20251129T080000
DTEND;TZID=Europe/Rome:20251129T180000
DTSTAMP:20260423T000306
CREATED:20251111T101355Z
LAST-MODIFIED:20251111T101355Z
UID:86596-1764403200-1764439200@portale.fnomceo.it
SUMMARY:Padova\, Corso Residenziale teorico-pratico sulle emergenze - urgenze mediche
DESCRIPTION:Corso Residenziale teorico-pratico sulle emergenze – urgenze mediche\nPadova\, Fondazione Opera Immacolata Concezione\n29 novembre 2025  \nSi terrà il 29 novembre 2025 a Padova\, presso l’Aula Magna della Fondazione Opera Immacolata Concezione\, il corso residenziale teorico-pratico sulle emergenze-urgenze mediche\, organizzato dall’OMCeO di Padova. Il corso offrirà ai partecipanti un percorso formativo dedicato alla gestione delle principali situazioni cliniche a rischio di vita\, con sessioni teoriche e prove pratiche di simulazione su manichino\, finalizzate all’acquisizione di protocolli operativi per l’intervento tempestivo nelle emergenze cardiache\, respiratorie\, circolatorie e neurologiche. \n\nEvento patrocinato FNOMCeO
URL:https://portale.fnomceo.it/eventi-fnomceo/padova-corso-residenziale-teorico-pratico-sulle-emergenze-urgenze-mediche/
LOCATION:Padova\, Fondazione Opera Immacolata Concezione\, via Toblino\, 53\, Mandria (PD)\, Italia
CATEGORIES:Eventi degli Ordini,Eventi patrocinati,Formazione e aggiornamento
GEO:45.3690583;11.8300973
X-APPLE-STRUCTURED-LOCATION;VALUE=URI;X-ADDRESS=Padova Fondazione Opera Immacolata Concezione via Toblino 53 Mandria (PD) Italia;X-APPLE-RADIUS=500;X-TITLE=via Toblino\, 53:geo:11.8300973,45.3690583
END:VEVENT
BEGIN:VEVENT
DTSTART;TZID=Europe/Rome:20251129T083000
DTEND;TZID=Europe/Rome:20251129T140000
DTSTAMP:20260423T000306
CREATED:20251124T143249Z
LAST-MODIFIED:20251124T143249Z
UID:86837-1764405000-1764424800@portale.fnomceo.it
SUMMARY:Sassari\, “La radioprotezione del paziente nella diagnosi e terapia del tumore polmonare”
DESCRIPTION:“La radioprotezione del paziente nella diagnosi e terapia del tumore polmonare”\nSassari\, Hotel Grazia Deledda\n29 novembre 2025 \nSi terrà il 29 novembre 2025 a Sassari il corso dal titolo “La radioprotezione del paziente nella diagnosi e terapia del tumore polmonare”\, organizzato dall’OMCeO di Sassari presso la Sala Conferenze dell’Hotel Grazia Deledda. La giornata formativa approfondirà il ruolo del medico nella tutela del paziente sottoposto a indagini radiologiche\, con particolare attenzione all’informazione\, alla scelta delle metodiche più appropriate e agli aspetti di radioprotezione dalla diagnosi alla terapia\, con focus sui trattamenti radioterapici nel tumore polmonare. \nLe iscrizioni saranno attive dal 14 novembre 2025 tramite l’Area Riservata del sito www.omceoss.org\, accessibile con SPID o CIE. L’iniziativa rappresenta la seconda edizione dell’evento già svolto il 10 maggio 2025: non potranno iscriversi i partecipanti della prima edizione.
URL:https://portale.fnomceo.it/eventi-fnomceo/sassari-la-radioprotezione-del-paziente-nella-diagnosi-e-terapia-del-tumore-polmonare/
LOCATION:Sassari\, Hotel Grazia Deledda\, Viale Dante n. 47\, Sassari\, Italia
CATEGORIES:Eventi degli Ordini,Formazione e aggiornamento
ORGANIZER;CN="OMCeO%20Sassari":MAILTO:ordine@omceoss.org
GEO:40.71871;8.56681
X-APPLE-STRUCTURED-LOCATION;VALUE=URI;X-ADDRESS=Sassari Hotel Grazia Deledda Viale Dante n. 47 Sassari Italia;X-APPLE-RADIUS=500;X-TITLE=Viale Dante n. 47:geo:8.56681,40.71871
END:VEVENT
BEGIN:VEVENT
DTSTART;TZID=Europe/Rome:20251129T090000
DTEND;TZID=Europe/Rome:20251129T140000
DTSTAMP:20260423T000306
CREATED:20250923T094913Z
LAST-MODIFIED:20251014T082438Z
UID:85992-1764406800-1764424800@portale.fnomceo.it
SUMMARY:Rimini\, "Disturbi dello spettro autistico e 'autismi': inclusione e isolamento sociale nelle società contemporanee"
DESCRIPTION:“Disturbi dello spettro autistico e ‘autismi’: inclusione e isolamento sociale nelle società contemporanee”\nRimini\, Cinema Tiberio\n29 novembre 2025 \nSi terrà il 29 novembre\, presso il Cinema Tiberio di Rimini\, l’incontro dal titolo “Disturbi dello spettro autistico e ‘autismi’: inclusione e isolamento sociale nelle società contemporanee”\, quinto e ultimo incontro del XIII Corso di alta specializzazione di etica medica della Scuola di Etica Medica di Rimini. \nLa giornata avrà inizio con il saluto del Presidente e l’introduzione affidata a Maurizio Grossi\, Mario Bartolomei e Andrea Santarelli. Seguirà\, alle ore 9.20\, la proiezione del film “La vita da Grandi” di Greta Scarano\, mentre alle ore 11.20 sarà dedicato un dialogo sul libro con Marco De Caris\, offrendo ai partecipanti spunti di riflessione e approfondimento sui temi affrontati.
URL:https://portale.fnomceo.it/eventi-fnomceo/rimini-disturbi-dello-spettro-autistico-e-autismi-inclusione-e-isolamento-sociale-nelle-societa-contemporanee/
LOCATION:Rimini\, Cinema Tiberio\, Via S. Giuliano\, 16\, Rimini\, Italia
CATEGORIES:Eventi degli Ordini,Formazione e aggiornamento
GEO:44.0652886;12.5627097
X-APPLE-STRUCTURED-LOCATION;VALUE=URI;X-ADDRESS=Rimini Cinema Tiberio Via S. Giuliano 16 Rimini Italia;X-APPLE-RADIUS=500;X-TITLE=Via S. Giuliano\, 16:geo:12.5627097,44.0652886
END:VEVENT
END:VCALENDAR