BEGIN:VCALENDAR
VERSION:2.0
PRODID:-//FNOMCeO - ECPv5.16.4//NONSGML v1.0//EN
CALSCALE:GREGORIAN
METHOD:PUBLISH
X-WR-CALNAME:FNOMCeO
X-ORIGINAL-URL:https://portale.fnomceo.it
X-WR-CALDESC:Eventi per FNOMCeO
BEGIN:VTIMEZONE
TZID:Europe/Rome
BEGIN:DAYLIGHT
TZOFFSETFROM:+0100
TZOFFSETTO:+0200
TZNAME:CEST
DTSTART:20240331T010000
END:DAYLIGHT
BEGIN:STANDARD
TZOFFSETFROM:+0200
TZOFFSETTO:+0100
TZNAME:CET
DTSTART:20241027T010000
END:STANDARD
END:VTIMEZONE
BEGIN:VEVENT
DTSTART;TZID=Europe/Rome:20240112T140000
DTEND;TZID=Europe/Rome:20240113T140000
DTSTAMP:20260422T125127
CREATED:20231205T111754Z
LAST-MODIFIED:20231205T112701Z
UID:74831-1705068000-1705154400@portale.fnomceo.it
SUMMARY:Roma e Milano\, "Mediazione e Conciliazione in ambito di responsabilità sanitaria: corso di aggiornamento pratico"
DESCRIPTION:“Mediazione e Conciliazione in ambito di responsabilità sanitaria: corso di aggiornamento pratico”\nRoma e Milano\, sedi ANDI\nGennaio – febbraio 2024 \nDate previste\nRoma 12-13 gennaio 2024 – c/o Sede Prov.le Andi Roma Via G. L. Squarcialupo\, 11 (RM)\nMilano 19-20 gennaio 2024 – c/o Sede Prov.le Andi Milano Lodi Monza Brianza Via Lanzone\, 31 (MI)\nRoma 23 – 24 febbraio 2024 – c/o Sede Prov.le Andi Roma Via G. L. Squarcialupo\, 11 (RM) \n\nEvento organizzato con patrocinio FNOMCeO
URL:https://portale.fnomceo.it/eventi-fnomceo/roma-milano-mediazione-e-conciliazione-in-ambito-di-responsabilita-sanitaria-corso-di-aggiornamento-pratico/2024-01-12/
LOCATION:ANDI Roma\, Via G. L. Squarcialupo\, 11\, Roma\, Italia
CATEGORIES:Eventi patrocinati,Formazione e aggiornamento
ATTACH;FMTTYPE=image/jpeg:https://portale.fnomceo.it/wp-content/uploads/2020/09/ANDI-dentisti.jpg
GEO:41.9135284;12.5256632
X-APPLE-STRUCTURED-LOCATION;VALUE=URI;X-ADDRESS=ANDI Roma Via G. L. Squarcialupo 11 Roma Italia;X-APPLE-RADIUS=500;X-TITLE=Via G. L. Squarcialupo\, 11:geo:12.5256632,41.9135284
END:VEVENT
BEGIN:VEVENT
DTSTART;TZID=Europe/Rome:20240113T080000
DTEND;TZID=Europe/Rome:20240113T150000
DTSTAMP:20260422T125127
CREATED:20231013T093917Z
LAST-MODIFIED:20231013T093917Z
UID:73944-1705132800-1705158000@portale.fnomceo.it
SUMMARY:Benevento\, Convegno “Fertilità: tra scienza ed etica”
DESCRIPTION:Convegno “Fertilità: tra scienza ed etica”\nBenevento\, Auditorium G. D’alessandro\n13 gennaio 2024\n \n  \nIl corso è gratuito e in fase di acccreditamento ECM\, si svolgerà il 13 gennaio 2024\, dalle ore 8.00 alle ore 15.00 presso l’Auditorium G. D’alessandro. \nSaranno ammessi un massimo di 60 partecipanti esclusivamente: Medici chirurghi e Odontoiatri. Il corso di formazione nella prima sessione andrà a valorizzare l’aspetto tecnico scientifico\, in termini di formazione e aggiornamento\, con l’obiettivo di fornire spunti di tipo informativo e formativo su temi innovativi legati alla PMA\, nella seconda sessione si analizzerà il coinvolgimento etico-giuridico in tema di “ Fertilità”. \n\nEvento organizzato con patrocinio FNOMCeO
URL:https://portale.fnomceo.it/eventi-fnomceo/benevento-convegno-fertilita-tra-scienza-ed-etica/
LOCATION:Benevento\, Auditorium G. D’Alessandro – OMCeO Benevento\, viale Mellusi 168\, Benevento\, Italia
CATEGORIES:Eventi degli Ordini,Eventi patrocinati,Formazione e aggiornamento
GEO:41.1237929;14.7958667
X-APPLE-STRUCTURED-LOCATION;VALUE=URI;X-ADDRESS=Benevento Auditorium G. D’Alessandro – OMCeO Benevento viale Mellusi 168 Benevento Italia;X-APPLE-RADIUS=500;X-TITLE=viale Mellusi 168:geo:14.7958667,41.1237929
END:VEVENT
END:VCALENDAR