BEGIN:VCALENDAR
VERSION:2.0
PRODID:-//FNOMCeO - ECPv5.16.4//NONSGML v1.0//EN
CALSCALE:GREGORIAN
METHOD:PUBLISH
X-WR-CALNAME:FNOMCeO
X-ORIGINAL-URL:https://portale.fnomceo.it
X-WR-CALDESC:Eventi per FNOMCeO
BEGIN:VTIMEZONE
TZID:Europe/Rome
BEGIN:DAYLIGHT
TZOFFSETFROM:+0100
TZOFFSETTO:+0200
TZNAME:CEST
DTSTART:20240331T010000
END:DAYLIGHT
BEGIN:STANDARD
TZOFFSETFROM:+0200
TZOFFSETTO:+0100
TZNAME:CET
DTSTART:20241027T010000
END:STANDARD
END:VTIMEZONE
BEGIN:VEVENT
DTSTART;TZID=Europe/Rome:20240209T113000
DTEND;TZID=Europe/Rome:20240209T193000
DTSTAMP:20260420T153215
CREATED:20240119T160702Z
LAST-MODIFIED:20240129T161525Z
UID:75465-1707478200-1707507000@portale.fnomceo.it
SUMMARY:Firenze\, Convegno “La ‘Top 10’ nell’infertilità. Per una gestione di qualità della coppia”
DESCRIPTION:Convegno “La ‘Top 10’ nell’infertilità. Per una gestione di qualità della coppia”\nFirenze\, Grand Hotel Mediterraneo\n9 febbraio 2024 \nUn incontro che pone al centro la coppia infertile e mette in rilievo l’importanza delle\ncategorie di operatori sanitari\, che rappresentano i primi interlocutori delle\npersone con problematiche di infertilità. \nIl convegno si rivolge agli operatori sanitari specialisti e non in procreazione medicalmente assistita (PMA)\, e si pone l’obiettivo di guidarli attraverso i 10 step che secondo la nostra esperienza rappresentano le fondamenta per poter gestire al meglio la coppia con problematiche di infertilità. \n\nEvento organizzato con patrocinio FNOMCeO
URL:https://portale.fnomceo.it/eventi-fnomceo/firenze-convegno-la-top-10-nellinfertilita-per-una-gestione-di-qualita-della-coppia/
LOCATION:Firenze\, Grand Hotel Mediterraneo\, Lungarno del Tempio\, 44\, Firenze\, Italia
CATEGORIES:Eventi patrocinati,Formazione e aggiornamento
GEO:43.7661539;11.2721814
X-APPLE-STRUCTURED-LOCATION;VALUE=URI;X-ADDRESS=Firenze Grand Hotel Mediterraneo Lungarno del Tempio 44 Firenze Italia;X-APPLE-RADIUS=500;X-TITLE=Lungarno del Tempio\, 44:geo:11.2721814,43.7661539
END:VEVENT
END:VCALENDAR