BEGIN:VCALENDAR
VERSION:2.0
PRODID:-//FNOMCeO - ECPv5.16.4//NONSGML v1.0//EN
CALSCALE:GREGORIAN
METHOD:PUBLISH
X-WR-CALNAME:FNOMCeO
X-ORIGINAL-URL:https://portale.fnomceo.it
X-WR-CALDESC:Eventi per FNOMCeO
BEGIN:VTIMEZONE
TZID:Europe/Rome
BEGIN:DAYLIGHT
TZOFFSETFROM:+0100
TZOFFSETTO:+0200
TZNAME:CEST
DTSTART:20240331T010000
END:DAYLIGHT
BEGIN:STANDARD
TZOFFSETFROM:+0200
TZOFFSETTO:+0100
TZNAME:CET
DTSTART:20241027T010000
END:STANDARD
END:VTIMEZONE
BEGIN:VEVENT
DTSTART;TZID=Europe/Rome:20240216T090000
DTEND;TZID=Europe/Rome:20240217T140000
DTSTAMP:20260422T111422
CREATED:20240119T100443Z
LAST-MODIFIED:20240123T110021Z
UID:75321-1708074000-1708178400@portale.fnomceo.it
SUMMARY:Catania\, XXVIII Congresso Nazionale COI-AIOG “L’Odontoiatria del domani: approcci multidisciplinari e Odontoiatria di genere”
DESCRIPTION:XXVIII Congresso Nazionale COI-AIOG “L’Odontoiatria del domani: approcci multidisciplinari e Odontoiatria di genere”\nCatania\, Four Points by Sheraton Catania\n16 – 17 febbraio 2024 \nAi partecipanti saranno certificate 5 ore di aggiornamento valide ai fini dell’aggiornamento obbligatorio ASO per l’anno 2024. \nNumero massimo di partecipanti: 60 \nPreiscrizione obbligatoria contattando la Segreteria Organizzativa. \nUn’area della sede congressuale sarà dedicata ai poster che resteranno esposti per tutta la durata del Congresso. Alla sessione poster possono partecipare odontoiatri\, studenti del CLMOPD\, igienisti dentali. \nLe candidature dovranno essere inviate alla segreteria organizzativa (segreteria.nazionale@coiaiog.it) entro e non oltre il 31 gennaio 2024. \n\nEvento organizzato con patrocinio FNOMCeO
URL:https://portale.fnomceo.it/eventi-fnomceo/catania-xxviii-congresso-nazionale-coi-aiog-lodontoiatria-del-domani-approcci-multidisciplinari-e-odontoiatria-di-genere/
LOCATION:Catania\, Four Points by Sheraton Catania Hotel & Conference Center\, Via Antonello da Messina\, 45\, Aci Castello\, Catania\, 95021\, Italia
CATEGORIES:Eventi patrocinati,Formazione e aggiornamento
ATTACH;FMTTYPE=image/png:https://portale.fnomceo.it/wp-content/uploads/2024/01/09_XXVIII_CONGRESSO_NAZIONALE_COI-_AIOG.png
GEO:37.5421896;15.1369283
X-APPLE-STRUCTURED-LOCATION;VALUE=URI;X-ADDRESS=Catania Four Points by Sheraton Catania Hotel & Conference Center Via Antonello da Messina 45 Aci Castello Catania 95021 Italia;X-APPLE-RADIUS=500;X-TITLE=Via Antonello da Messina\, 45:geo:15.1369283,37.5421896
END:VEVENT
BEGIN:VEVENT
DTSTART;TZID=Europe/Rome:20240217T083000
DTEND;TZID=Europe/Rome:20240217T170000
DTSTAMP:20260422T111422
CREATED:20240123T110637Z
LAST-MODIFIED:20240206T164011Z
UID:75347-1708158600-1708189200@portale.fnomceo.it
SUMMARY:Ascoli Piceno\, Congresso Regionale Marche SUSO e Memorial Franco Bruno “Il canino incluso è ancora uno sconosciuto?”
DESCRIPTION:Congresso Regione Marche SUSO e Memorial Franco Bruno “Il canino incluso è ancora uno sconosciuto?”\nAscoli Piceno\, Sala della Ragione – Palazzo dei Capitani\n17 febbraio 2024 \n  \nIl tema del Convegno sarà il trattamento del canino incluso\, visto da tutte le prospettive\, da quelle cliniche a quelle medico-legali\, per cercare di chiarire tutti quei dubbi che possono presentarsi nella pratica clinica. \nIn allegato il programma comprensivo della scheda di iscrizione. \nECM\nLa partecipazione al congresso dà diritto all’acquisizione di 7 crediti ECM \n\nEvento organizzato con patrocinio FNOMCeO
URL:https://portale.fnomceo.it/eventi-fnomceo/ascoli-piceno-congresso-regione-marche-suso-e-memorial-franco-bruno-il-canino-incluso-e-ancora-uno-sconosciuto/
LOCATION:Ascoli Piceno\, Sala della Ragione – Palazzo dei Capitani\, P.zza del Popolo 10\, Ascoli Piceno\, Italia
CATEGORIES:Eventi patrocinati,Formazione e aggiornamento
ATTACH;FMTTYPE=image/jpeg:https://portale.fnomceo.it/wp-content/uploads/2024/01/cover-Ascoli-Piceno-1-suso.jpg
GEO:42.8549021;13.5755465
X-APPLE-STRUCTURED-LOCATION;VALUE=URI;X-ADDRESS=Ascoli Piceno Sala della Ragione – Palazzo dei Capitani P.zza del Popolo 10 Ascoli Piceno Italia;X-APPLE-RADIUS=500;X-TITLE=P.zza del Popolo 10:geo:13.5755465,42.8549021
END:VEVENT
END:VCALENDAR