BEGIN:VCALENDAR
VERSION:2.0
PRODID:-//FNOMCeO - ECPv5.16.4//NONSGML v1.0//EN
CALSCALE:GREGORIAN
METHOD:PUBLISH
X-WR-CALNAME:FNOMCeO
X-ORIGINAL-URL:https://portale.fnomceo.it
X-WR-CALDESC:Eventi per FNOMCeO
BEGIN:VTIMEZONE
TZID:Europe/Rome
BEGIN:DAYLIGHT
TZOFFSETFROM:+0100
TZOFFSETTO:+0200
TZNAME:CEST
DTSTART:20240331T010000
END:DAYLIGHT
BEGIN:STANDARD
TZOFFSETFROM:+0200
TZOFFSETTO:+0100
TZNAME:CET
DTSTART:20241027T010000
END:STANDARD
END:VTIMEZONE
BEGIN:VEVENT
DTSTART;TZID=Europe/Rome:20240314T090000
DTEND;TZID=Europe/Rome:20240316T140000
DTSTAMP:20260420T134752
CREATED:20240123T111409Z
LAST-MODIFIED:20240123T111409Z
UID:75358-1710406800-1710597600@portale.fnomceo.it
SUMMARY:Siena\, XXVII Congresso Nazionale SIDOC 2024
DESCRIPTION:XXVII Congresso Nazionale SIDOC 2024\nSiena\, Università di Siena – Presidio Mattioli\n14 – 16 marzo 2024 \nIl Congresso offre un valido ed attuale aggiornamento sui temi tipici dell’odontoiatria restaurativa.\nVerranno esaminate problematiche relative al ripristino estetico e funzionale degli elementi dentari strutturalmente ed esteticamente compromessi\, alla prevenzione\, al trattamento dei difetti dello smalto ed alle possibili interazioni tra restaurativa e parodonto. \nQueste ed altre tematiche verranno esaminate e discusse con il supporto delle più attuali evidenze scientifiche e dell’esperienza clinica dei relatori\, in modo da offrire al professionista strumenti chiari ed aggiornati\, indispensabili per formulare il piano di trattamento più adatto a rispondere alle esigenze di ogni singolo paziente \n\nEvento organizzato con patrocinio FNOMCeO
URL:https://portale.fnomceo.it/eventi-fnomceo/siena-xxvii-congresso-nazionale-sidoc-2024/
LOCATION:Siena\, Università di Siena – Presidio Mattioli\, Via Pier Andrea Mattioli\, 10\, Siena
CATEGORIES:Eventi patrocinati,Formazione e aggiornamento
ATTACH;FMTTYPE=image/jpeg:https://portale.fnomceo.it/wp-content/uploads/2024/01/Sidoc2024_preliminare-1-1500x1060-1.jpg
GEO:43.3124947;11.3322994
X-APPLE-STRUCTURED-LOCATION;VALUE=URI;X-ADDRESS=Siena Università di Siena – Presidio Mattioli Via Pier Andrea Mattioli 10 Siena;X-APPLE-RADIUS=500;X-TITLE=Via Pier Andrea Mattioli\, 10:geo:11.3322994,43.3124947
END:VEVENT
BEGIN:VEVENT
DTSTART;TZID=Europe/Rome:20240314T130000
DTEND;TZID=Europe/Rome:20240316T180000
DTSTAMP:20260420T134752
CREATED:20240122T142445Z
LAST-MODIFIED:20240203T143054Z
UID:75567-1710421200-1710612000@portale.fnomceo.it
SUMMARY:Napoli\, Congresso Nazionale ASAND “Valori\, competenza e pratica professionale: orizzonti e scenari”
DESCRIPTION:Congresso Nazionale ASAND “Valori\, competenza e pratica professionale: orizzonti e scenari”\nNapoli\, Complesso Monumentale di Santa Chiara\n14 – 16 marzo 2024 \n  \nResponsabile scientifico: Elisa Mazza\nComitato Scientifico: Consuelo Borgarelli\, Giuseppina Catinello\, Maurizio Fadda\, Anna Laura Fantuzzi\, Gianluca Imperio\, Fabrizia Lisso\, Manuela Maione\, Carolina Poli\, Monica Ruotolo\, Marisa Sillano\, Marco Tonelli\, Martina Tosi\, Ersilia Troiano \nCrediti ECM: tbd\nDestinatari: Dietista e Medico Chirurgo (tutte le discipline)\, Studente CdL in Dietistica (NO ECM) \n\n\nEvento organizzato con patrocinio FNOMCeO
URL:https://portale.fnomceo.it/eventi-fnomceo/napoli-congresso-nazionale-asand-valori-competenza-e-pratica-professionale-orizzonti-e-scenari/
LOCATION:Napoli\, Complesso Monumentale di Santa Chiara\, Italia
CATEGORIES:Eventi patrocinati,Formazione e aggiornamento
GEO:41.87194;12.56738
END:VEVENT
BEGIN:VEVENT
DTSTART;TZID=Europe/Rome:20240315T130000
DTEND;TZID=Europe/Rome:20240316T143000
DTSTAMP:20260420T134752
CREATED:20240123T143117Z
LAST-MODIFIED:20240203T143415Z
UID:75574-1710507600-1710599400@portale.fnomceo.it
SUMMARY:Salerno\, Convegno “Evolution of cancer pharmacology”
DESCRIPTION:Convegno “Evolution of cancer pharmacology”\nSalerno\, Grand Hotel Salerno\n15 – 16 marzo 2024 \n\n\nEvento organizzato con patrocinio FNOMCeO
URL:https://portale.fnomceo.it/eventi-fnomceo/salerno-convegno-evolution-of-cancer-pharmacology/
LOCATION:Salerno\, Grand Hotel Salerno\, Lungomare Clemente Tafuri\, 1\, Salerno\, 84127\, Italia
CATEGORIES:Eventi patrocinati,Formazione e aggiornamento,Riunioni internazionali
GEO:40.6724941;14.7758865
X-APPLE-STRUCTURED-LOCATION;VALUE=URI;X-ADDRESS=Salerno Grand Hotel Salerno Lungomare Clemente Tafuri 1 Salerno 84127 Italia;X-APPLE-RADIUS=500;X-TITLE=Lungomare Clemente Tafuri\, 1:geo:14.7758865,40.6724941
END:VEVENT
END:VCALENDAR