BEGIN:VCALENDAR
VERSION:2.0
PRODID:-//FNOMCeO - ECPv5.16.4//NONSGML v1.0//EN
CALSCALE:GREGORIAN
METHOD:PUBLISH
X-WR-CALNAME:FNOMCeO
X-ORIGINAL-URL:https://portale.fnomceo.it
X-WR-CALDESC:Eventi per FNOMCeO
BEGIN:VTIMEZONE
TZID:Europe/Rome
BEGIN:DAYLIGHT
TZOFFSETFROM:+0100
TZOFFSETTO:+0200
TZNAME:CEST
DTSTART:20240331T010000
END:DAYLIGHT
BEGIN:STANDARD
TZOFFSETFROM:+0200
TZOFFSETTO:+0100
TZNAME:CET
DTSTART:20241027T010000
END:STANDARD
END:VTIMEZONE
BEGIN:VEVENT
DTSTART;TZID=Europe/Rome:20240410T150000
DTEND;TZID=Europe/Rome:20240410T193000
DTSTAMP:20260420T122033
CREATED:20240328T111506Z
LAST-MODIFIED:20240328T111506Z
UID:76739-1712761200-1712777400@portale.fnomceo.it
SUMMARY:Roma\, Convegno “L’impatto ambientale sulla fertilità maschile in Italia. I dati di biomonitoraggio umano: quali rischi\, quali rimedi”
DESCRIPTION:Convegno “L’impatto ambientale sulla fertilità maschile in Italia. I dati di biomonitoraggio umano: quali rischi\, quali rimedi”\nRoma\, Camera dei Deputati\n10 aprile 2024  \nSi terrà a Roma il Convegno “L’impatto ambientale sulla fertilità maschile in Italia. I dati di biomonitoraggio umano: quali rischi\, quali rimedi”. Tra i vari temi si parlerà del Progetto EcoFoodFertility: dalla fertilità maschile\, un modello per la valutazione dell’impatto ambientale\, la prevenzione e la resilienza nelle aree a rischio d’Italia. Si parlerà anche di crisi dei sistemi ecologici come fattore di crisi riproduttiva e dei contaminanti emergenti come le microplastiche. \n\nEvento patrocinato FNOMCeO
URL:https://portale.fnomceo.it/eventi-fnomceo/roma-convegno-limpatto-ambientale-sulla-fertilita-maschile-in-italia-i-dati-di-biomonitoraggio-umano-quali-rischi-quali-rimedi/
LOCATION:Roma\, Sala del Refettorio – Camera dei Deputati\, piazza montecitorio\, roma
CATEGORIES:Eventi patrocinati,Formazione e aggiornamento
GEO:41.9007126;12.4788175
X-APPLE-STRUCTURED-LOCATION;VALUE=URI;X-ADDRESS=Roma Sala del Refettorio – Camera dei Deputati piazza montecitorio roma;X-APPLE-RADIUS=500;X-TITLE=piazza montecitorio:geo:12.4788175,41.9007126
END:VEVENT
BEGIN:VEVENT
DTSTART;TZID=Europe/Rome:20240410T173000
DTEND;TZID=Europe/Rome:20240410T190000
DTSTAMP:20260420T122033
CREATED:20240328T092832Z
LAST-MODIFIED:20240328T092832Z
UID:76711-1712770200-1712775600@portale.fnomceo.it
SUMMARY:Roma\, Tavola Rotonda "Progetto Europeo SAFE STADIUM"
DESCRIPTION:Tavola Rotonda “Progetto Europeo Safe Stadium”\nRoma\, Camera dei Deputati\n10 aprile 2024 \nIl 10 aprile si terrà alla Camera dei Deputati una tavola rotonda dove le istituzioni governative\, di pubblica sicurezza e sportive discuteranno insieme agli esperti sul tema della sicurezza CBRN negli impianti sportivi\, in particolare in riferimento al progetto europeo “Safe Stadium” che prevede l’implementazione delle buone pratiche per la protezione degli spazi pubblici attraverso lo sviluppo del sistema integrato di protezione CBRN per gli impianti sportivi. Il progetto è stato finanziato dall’European Union Security Fund – Police. \n\nEvento patrocinato FNOMCeO
URL:https://portale.fnomceo.it/eventi-fnomceo/roma-tavola-rotonda-progetto-europeo-safe-stadium/
LOCATION:Roma\, Camera dei Deputati\, Via del Seminario\, 76\, Roma\, Italia
CATEGORIES:Eventi patrocinati
ATTACH;FMTTYPE=image/png:https://portale.fnomceo.it/wp-content/uploads/2024/03/safestadium.png
GEO:41.8990311;12.4784701
X-APPLE-STRUCTURED-LOCATION;VALUE=URI;X-ADDRESS=Roma Camera dei Deputati Via del Seminario 76 Roma Italia;X-APPLE-RADIUS=500;X-TITLE=Via del Seminario\, 76:geo:12.4784701,41.8990311
END:VEVENT
END:VCALENDAR