BEGIN:VCALENDAR
VERSION:2.0
PRODID:-//FNOMCeO - ECPv5.16.4//NONSGML v1.0//EN
CALSCALE:GREGORIAN
METHOD:PUBLISH
X-WR-CALNAME:FNOMCeO
X-ORIGINAL-URL:https://portale.fnomceo.it
X-WR-CALDESC:Eventi per FNOMCeO
BEGIN:VTIMEZONE
TZID:Europe/Rome
BEGIN:DAYLIGHT
TZOFFSETFROM:+0100
TZOFFSETTO:+0200
TZNAME:CEST
DTSTART:20240331T010000
END:DAYLIGHT
BEGIN:STANDARD
TZOFFSETFROM:+0200
TZOFFSETTO:+0100
TZNAME:CET
DTSTART:20241027T010000
END:STANDARD
END:VTIMEZONE
BEGIN:VEVENT
DTSTART;TZID=Europe/Rome:20240503T140000
DTEND;TZID=Europe/Rome:20240504T140000
DTSTAMP:20260420T110212
CREATED:20240327T163525Z
LAST-MODIFIED:20240506T085132Z
UID:76693-1714744800-1714831200@portale.fnomceo.it
SUMMARY:Ostuni\, XV Dental Day “Dalla diagnosi alla terapia. Multidisciplinarietà in odontoiatria”
DESCRIPTION:XV Dental Day “Dalla diagnosi alla terapia. Multidisciplinarietà in odontoiatria”\nOstuni (BR)\, Hotel Monte Sarago\n3 – 4 maggio 2024 \nIl Convegno Regionale ANDI Puglia dal titolo “Dalla diagnosi alla terapia. Multidisciplinarietà in odontoiatria” è in programma per il 3 e 4 maggio 2024 ad Ostuni. L’evento prevede la partecipazione di esperti nel settore dell’Odontoiatria\, i quali approfondiranno temi di primaria importanza come l’Odontoiatria Restaurativa\, l’Endodonzia\, la Medicina Estetica e la Parodontologia. \n\nEvento patrocinato FNOMCeO
URL:https://portale.fnomceo.it/eventi-fnomceo/ostuni-xv-dental-day-dalla-diagnosi-alla-terapia-multidisciplinarieta-in-odontoiatria/
LOCATION:Ostuni\, Hotel Monte Sarago\, Ostuni\, Italia
CATEGORIES:Eventi patrocinati
ATTACH;FMTTYPE=image/png:https://portale.fnomceo.it/wp-content/uploads/2024/03/ostuni0405.png
GEO:40.7295235;17.5779979
END:VEVENT
END:VCALENDAR