BEGIN:VCALENDAR
VERSION:2.0
PRODID:-//FNOMCeO - ECPv5.16.4//NONSGML v1.0//EN
CALSCALE:GREGORIAN
METHOD:PUBLISH
X-WR-CALNAME:FNOMCeO
X-ORIGINAL-URL:https://portale.fnomceo.it
X-WR-CALDESC:Eventi per FNOMCeO
BEGIN:VTIMEZONE
TZID:Europe/Rome
BEGIN:DAYLIGHT
TZOFFSETFROM:+0100
TZOFFSETTO:+0200
TZNAME:CEST
DTSTART:20240331T010000
END:DAYLIGHT
BEGIN:STANDARD
TZOFFSETFROM:+0200
TZOFFSETTO:+0100
TZNAME:CET
DTSTART:20241027T010000
END:STANDARD
END:VTIMEZONE
BEGIN:VEVENT
DTSTART;TZID=Europe/Rome:20240510T080000
DTEND;TZID=Europe/Rome:20240511T120000
DTSTAMP:20260422T111541
CREATED:20240329T104400Z
LAST-MODIFIED:20240329T104400Z
UID:76763-1715328000-1715428800@portale.fnomceo.it
SUMMARY:Caserta\, II Edizione “Giornate Gastroenterologiche Casertane”
DESCRIPTION:“Giornate Gastroenterologiche Casertane”\nCaserta\, Grand Hotel Vanvitelli\n10 e 11 maggio 2024 \nSi terrà a Caserta la Seconda Edizione delle “Giornate Gastroenterologiche Casertane”\, dove verranno trattati diversi argomenti come le malattie infiammatorie croniche intestinali\, l’asse microbiota – fegato\, le tecniche diagnostiche e terapeutiche per le patologie biliopancreatiche e vari topics inclusi quelli dell’emergenza gastroenterologica. \n\nEvento patrocinato FNOMCeO
URL:https://portale.fnomceo.it/eventi-fnomceo/caserta-ii-edizione-giornate-gastroenterologiche-casertane/
LOCATION:Caserta\, Grand Hotel Vanvitelli\, Viale Carlo III\, Caserta\, 81100\, Italia
CATEGORIES:Eventi patrocinati,Formazione e aggiornamento
GEO:41.0664131;14.3265628
X-APPLE-STRUCTURED-LOCATION;VALUE=URI;X-ADDRESS=Caserta Grand Hotel Vanvitelli Viale Carlo III Caserta 81100 Italia;X-APPLE-RADIUS=500;X-TITLE=Viale Carlo III:geo:14.3265628,41.0664131
END:VEVENT
BEGIN:VEVENT
DTSTART;TZID=Europe/Rome:20240510T083000
DTEND;TZID=Europe/Rome:20240512T140000
DTSTAMP:20260422T111541
CREATED:20240329T105733Z
LAST-MODIFIED:20240329T105733Z
UID:76789-1715329800-1715522400@portale.fnomceo.it
SUMMARY:45° Congresso Nazionale della Società Italiana di Medicina Estetica “Medicina Estetica. Immagine\, Etica e Scienza” - 19° Congresso Nazionale dell’Accademia Italiana di Medicina Anti-Aging
DESCRIPTION:45° Congresso Nazionale della Società Italiana di Medicina Estetica “Medicina Estetica. Immagine\, Etica e Scienza” \n19° Congresso Nazionale dell’Accademia Italiana di Medicina Anti-Aging\nRoma\, Convention Center La Nuvola\n10 – 12 maggio 2024  \nSi terrà a Roma il 45° Congresso Nazionale della Società Italiana di Medicina Estetica intitolato “Medicina Estetica. Immagine\, Etica e Scienza”. Nel corso di questo incontro\, verranno affrontati una vasta gamma di argomenti\, dalle nuove procedure e tecnologie all’etica professionale\, dalla sicurezza dei pazienti all’eccellenza nella pratica. Saranno presentati da relatori nazionali ed internazionali ricerche all’avanguardia e casi clinici interessanti. \n\nEvento patrocinato FNOMCeO
URL:https://portale.fnomceo.it/eventi-fnomceo/45-congresso-nazionale-della-societa-italiana-di-medicina-estetica-medicina-estetica-immagine-etica-e-scienza-19-congresso-nazionale-dellaccademia-italiana-d/
LOCATION:Roma\, Convention Center La Nuvola\, Viale Asia 25\, Roma
CATEGORIES:Eventi patrocinati,Formazione e aggiornamento
GEO:41.8316491;12.4709218
X-APPLE-STRUCTURED-LOCATION;VALUE=URI;X-ADDRESS=Roma Convention Center La Nuvola Viale Asia 25 Roma;X-APPLE-RADIUS=500;X-TITLE=Viale Asia 25:geo:12.4709218,41.8316491
END:VEVENT
BEGIN:VEVENT
DTSTART;TZID=Europe/Rome:20240510T100000
DTEND;TZID=Europe/Rome:20240511T170000
DTSTAMP:20260422T111541
CREATED:20240327T153747Z
LAST-MODIFIED:20240422T161224Z
UID:76689-1715335200-1715446800@portale.fnomceo.it
SUMMARY:Bari\, IX Congresso Odontoiatrico Mediterraneo e XIX Memorial Vittorio Nisio
DESCRIPTION:IX Congresso Odontoiatrico Mediterraneo\nXIX Memorial Vittorio Nisio\nBari\, Hotel Nicolaus\n10 – 11 maggio 2024 \nIl settore dentale sta attraverso un cambiamento paradigmatico nei processi e nei trattamenti offerti\, guidato dai progressi tecnologici. Rimanere aggiornati sulle tendenze del settore e sul futuro dell’odontoiatria è l’obiettivo del IX Congresso Odontoiatrico Mediterraneo/XIX Memorial Vittorio Nisio. \n\nEvento patrocinato FNOMCeO
URL:https://portale.fnomceo.it/eventi-fnomceo/bari-ix-congresso-odontoiatrico-mediterraneo-e-xix-memorial-vittorio-nisio/
LOCATION:Bari\, Hotel Nicolaus\, Via Cardinale Agostino Ciasca\, 27\, Bari\, 70124\, Italia
CATEGORIES:Eventi patrocinati
ATTACH;FMTTYPE=image/png:https://portale.fnomceo.it/wp-content/uploads/2024/03/odontoitari.png
GEO:41.0990662;16.8547904
X-APPLE-STRUCTURED-LOCATION;VALUE=URI;X-ADDRESS=Bari Hotel Nicolaus Via Cardinale Agostino Ciasca 27 Bari 70124 Italia;X-APPLE-RADIUS=500;X-TITLE=Via Cardinale Agostino Ciasca\, 27:geo:16.8547904,41.0990662
END:VEVENT
BEGIN:VEVENT
DTSTART;TZID=Europe/Rome:20240511T080000
DTEND;TZID=Europe/Rome:20240511T130000
DTSTAMP:20260422T111541
CREATED:20240329T113020Z
LAST-MODIFIED:20240415T091538Z
UID:76817-1715414400-1715432400@portale.fnomceo.it
SUMMARY:Rimini\, Convegno “Relazione tra linguaggio e genere: i canali della comunicazione”
DESCRIPTION:Convegno “Relazione tra linguaggio e genere: i canali della comunicazione”\nRimini\, Palazzo del Turismo – Sala Convegni\n11 maggio 20245  \nSi svolgerà a Rimini il Convegno “Relazione tra linguaggio e genere: i canali della comunicazione” dedicato alla medicina di genere\, che affronterà in particolare le questioni relative alla comunicazione e alla relazione col paziente. \n\nEvento patrocinato FNOMCeO
URL:https://portale.fnomceo.it/eventi-fnomceo/rimini-convegno-relazione-tra-linguaggio-e-genere-i-canali-della-comunicazione/
LOCATION:Rimini\, Palazzo del Turismo\, piazza fellini 3\, rimini\, Italia
CATEGORIES:Eventi degli Ordini,Eventi patrocinati,Formazione e aggiornamento,Medicina di Genere
GEO:44.0711864;12.5765334
X-APPLE-STRUCTURED-LOCATION;VALUE=URI;X-ADDRESS=Rimini Palazzo del Turismo piazza fellini 3 rimini Italia;X-APPLE-RADIUS=500;X-TITLE=piazza fellini 3:geo:12.5765334,44.0711864
END:VEVENT
END:VCALENDAR