BEGIN:VCALENDAR
VERSION:2.0
PRODID:-//FNOMCeO - ECPv5.16.4//NONSGML v1.0//EN
CALSCALE:GREGORIAN
METHOD:PUBLISH
X-WR-CALNAME:FNOMCeO
X-ORIGINAL-URL:https://portale.fnomceo.it
X-WR-CALDESC:Eventi per FNOMCeO
BEGIN:VTIMEZONE
TZID:Europe/Rome
BEGIN:DAYLIGHT
TZOFFSETFROM:+0100
TZOFFSETTO:+0200
TZNAME:CEST
DTSTART:20240331T010000
END:DAYLIGHT
BEGIN:STANDARD
TZOFFSETFROM:+0200
TZOFFSETTO:+0100
TZNAME:CET
DTSTART:20241027T010000
END:STANDARD
END:VTIMEZONE
BEGIN:VEVENT
DTSTART;TZID=Europe/Rome:20240516T073000
DTEND;TZID=Europe/Rome:20240518T183000
DTSTAMP:20260420T110208
CREATED:20240219T114353Z
LAST-MODIFIED:20240219T114353Z
UID:75893-1715844600-1716057000@portale.fnomceo.it
SUMMARY:Rimini\, 55° Congresso Nazionale ANMCO “The heart of quality – improving care for everyone”
DESCRIPTION:55° Congresso Nazionale ANMCO\n“The Heart of Quality – Improving Care for Everyone” \nRimini\, Palacongressi\n16 – 18 maggio 2024 \n  \nIl Congresso offrirà occasioni di aggiornamento sui grandi temi della prevenzione\, della cura e della ricerca così come momenti di confronto sulle novità legate alla nostra attività clinica.\nCoinvolgerà un panel di esperti attivi nell’ambito cardiologico e non\, anche di natura istituzionale. Proporrà un programma scientifico sempre inclusivo anche dei contributi delle maggiori società scientifiche cardiologiche internazionali\, come l’American Heart Association (AHA)\, l’American College of Cardiology (ACC) e la Società Europea di Cardiologia (ESC). \n\nEvento patrocinato FNOMCeO
URL:https://portale.fnomceo.it/eventi-fnomceo/rimini-55-congresso-nazionale-anmco-the-heart-of-quality-improving-care-for-everyone/
LOCATION:Rimini\, Fiera di Rimini\, Via Emilia 155\, Rimini\, 47923\, Italia
CATEGORIES:Eventi patrocinati,Formazione e aggiornamento,Riunioni internazionali
ATTACH;FMTTYPE=image/png:https://portale.fnomceo.it/wp-content/uploads/2024/02/rimini1618maggio.png
GEO:44.0503889;12.5667365
X-APPLE-STRUCTURED-LOCATION;VALUE=URI;X-ADDRESS=Rimini Fiera di Rimini Via Emilia 155 Rimini 47923 Italia;X-APPLE-RADIUS=500;X-TITLE=Via Emilia 155:geo:12.5667365,44.0503889
END:VEVENT
BEGIN:VEVENT
DTSTART;TZID=Europe/Rome:20240516T140000
DTEND;TZID=Europe/Rome:20240518T180000
DTSTAMP:20260420T110208
CREATED:20240417T094743Z
LAST-MODIFIED:20240417T094743Z
UID:77103-1715868000-1716055200@portale.fnomceo.it
SUMMARY:Roma\, XII Congresso Nazionale Fondazione AMD “50 anni di esperienza\, crescita\, partecipazione e innovazione per la diabetologia del futuro”
DESCRIPTION:XII Congresso Nazionale Fondazione AMD\n“50 anni di esperienza\, crescita\, partecipazione e innovazione per la diabetologia del futuro”\nRoma\, Rome Marriott Park\n16 – 18 maggio 2024  \nSi terrà a Roma il 12° Congresso Nazionale Fondazione AMD durante il quale sarà possibile il confronto sulle più recenti innovazioni nel campo clinico-terapeutico e nella ricerca scientifica. L’evento offrirà altresì un’opportunità di dialogo con le istituzioni\, gli specialisti ed i professionisti della Medicina Generale. \n\nEvento patrocinato FNOMCeO
URL:https://portale.fnomceo.it/eventi-fnomceo/roma-xii-congresso-nazionale-fondazione-amd-50-anni-di-esperienza-crescita-partecipazione-e-innovazione-per-la-diabetologia-del-futuro/
LOCATION:Roma\, Rome Marriott Park Hotel\, Via Colonnello Tommaso Masala 54\, Roma\, 00148\, Italia
CATEGORIES:Eventi patrocinati,Formazione e aggiornamento
GEO:41.8251518;12.3920345
X-APPLE-STRUCTURED-LOCATION;VALUE=URI;X-ADDRESS=Roma Rome Marriott Park Hotel Via Colonnello Tommaso Masala 54 Roma 00148 Italia;X-APPLE-RADIUS=500;X-TITLE=Via Colonnello Tommaso Masala 54:geo:12.3920345,41.8251518
END:VEVENT
END:VCALENDAR