BEGIN:VCALENDAR
VERSION:2.0
PRODID:-//FNOMCeO - ECPv5.16.4//NONSGML v1.0//EN
CALSCALE:GREGORIAN
METHOD:PUBLISH
X-WR-CALNAME:FNOMCeO
X-ORIGINAL-URL:https://portale.fnomceo.it
X-WR-CALDESC:Eventi per FNOMCeO
BEGIN:VTIMEZONE
TZID:Europe/Rome
BEGIN:DAYLIGHT
TZOFFSETFROM:+0100
TZOFFSETTO:+0200
TZNAME:CEST
DTSTART:20240331T010000
END:DAYLIGHT
BEGIN:STANDARD
TZOFFSETFROM:+0200
TZOFFSETTO:+0100
TZNAME:CET
DTSTART:20241027T010000
END:STANDARD
END:VTIMEZONE
BEGIN:VEVENT
DTSTART;TZID=Europe/Rome:20240523T093000
DTEND;TZID=Europe/Rome:20240525T180000
DTSTAMP:20260420T110207
CREATED:20240219T114338Z
LAST-MODIFIED:20240219T114338Z
UID:75887-1716456600-1716660000@portale.fnomceo.it
SUMMARY:Salerno\, Rassegna Internazionale del Cortometraggio MED -LIMES – VII Edizione “Ai Confini del Mediterraneo”
DESCRIPTION:Rassegna Internazionale del Cortometraggio MED -LIMES – VII Edizione \n“Ai Confini del Mediterraneo”\nSalerno\, Palazzo Fruscione\n23 – 25 maggio 2024 \n  \nSi terrà a Salerno la settima edizione della Rassegna Internazionale del Cortometraggio ”Ai Confini del Mediterraneo”\, con anche la partecipazione dell’Istituto Nautico Giovanni XXIII con il Progetto Tender Nave Italia. \nLa rassegna pone l’attenzione sui temi caldi della nostra epoca. Il dramma dell’immigrazione\, la scarsità di risorse idriche e alimentari per soddisfare il fabbisogno di milioni di individui\, la discriminazione nei confronti delle altre culture sono i temi e i contenuti su cui si basano le produzioni cinematografiche che parteciperanno alla manifestazione. \n\nEvento patrocinato FNOMCeO
URL:https://portale.fnomceo.it/eventi-fnomceo/salerno-rassegna-internazionale-del-cortometraggio-med-limes-vii-edizione-ai-confini-del-mediterraneo/
LOCATION:Salerno\, Palazzo Fruscione\, Vicolo Adelberga\, 19\, Salerno\, 84121\, Italia
CATEGORIES:Eventi patrocinati
ATTACH;FMTTYPE=image/jpeg:https://portale.fnomceo.it/wp-content/uploads/2024/02/medlimes_rassegna.jpg
GEO:40.6797272;14.757492
X-APPLE-STRUCTURED-LOCATION;VALUE=URI;X-ADDRESS=Salerno Palazzo Fruscione Vicolo Adelberga 19 Salerno 84121 Italia;X-APPLE-RADIUS=500;X-TITLE=Vicolo Adelberga\, 19:geo:14.757492,40.6797272
END:VEVENT
BEGIN:VEVENT
DTSTART;TZID=Europe/Rome:20240523T100000
DTEND;TZID=Europe/Rome:20240523T130000
DTSTAMP:20260420T110207
CREATED:20240216T135038Z
LAST-MODIFIED:20240329T111940Z
UID:75838-1716458400-1716469200@portale.fnomceo.it
SUMMARY:Roma\,  IX Workshop di Economia in Odontoiatria “Sostenibilità in odontoiatria: un patto fra pazienti e odontoiatri”
DESCRIPTION: IX Workshop di Economia in Odontoiatria “Sostenibilità in odontoiatria: un patto fra pazienti e odontoiatri”\nRoma\, Roma Eventi – Fontana di Trevi\n23 maggio 2024 \nANDI – Associazione Nazionale Dentisti Italiani organizza il IX Workshop di Economia in Odontoiatria “Sostenibilità in odontoiatria: un patto fra pazienti e odontoiatri” il 23 Maggio 2024 a Roma. \n\nEvento organizzato con patrocinio FNOMCeO
URL:https://portale.fnomceo.it/eventi-fnomceo/roma-ix-workshop-di-economia-in-odontoiatria-sostenibilita-in-odontoiatria-un-patto-fra-pazienti-e-odontoiatri/
LOCATION:Roma Eventi – Fontana di Trevi\, Piazza della Pilotta\, 4\, Roma\, 00187\, Italia
CATEGORIES:Eventi patrocinati,Formazione e aggiornamento
ATTACH;FMTTYPE=image/jpeg:https://portale.fnomceo.it/wp-content/uploads/2023/08/odontoiatri-dentisti-evidenza-strumentazione-strumenti.jpg
GEO:41.8988074;12.4847724
X-APPLE-STRUCTURED-LOCATION;VALUE=URI;X-ADDRESS=Roma Eventi – Fontana di Trevi Piazza della Pilotta 4 Roma 00187 Italia;X-APPLE-RADIUS=500;X-TITLE=Piazza della Pilotta\, 4:geo:12.4847724,41.8988074
END:VEVENT
BEGIN:VEVENT
DTSTART;TZID=Europe/Rome:20240523T120000
DTEND;TZID=Europe/Rome:20240525T193000
DTSTAMP:20260420T110207
CREATED:20240329T105424Z
LAST-MODIFIED:20240329T105424Z
UID:76782-1716465600-1716665400@portale.fnomceo.it
SUMMARY:Bologna\, 17th European Federation of Sexology (EFS) “Sexuality in health and disease: sexual health\, rights and wellbeing”
DESCRIPTION:17th European Federation of Sexology (EFS) “Sexuality in health and disease: sexual health\, rights and wellbeing”\nBologna\, Royal Hotel Carlton\n23 – 25 maggio 2024 \nSi terrà a Bologna il 17° Congresso Europeo di Sessuologia intitolato “Sexuality in health and disease: sexual health\, rights and wellbeing”\, durante il quale si affronteranno tematiche relative alla riabilitazione sessuale\, l’educazione\, terapia e trattamento delle disfunzioni sessuali\, oltre che a questioni di salute pubblica e la prevenzione delle malattia sessualmente trasmissibili. \n\nEvento patrocinato FNOMCeO
URL:https://portale.fnomceo.it/eventi-fnomceo/bologna-17th-european-federation-of-sexology-efs-sexuality-in-health-and-disease-sexual-health-rights-and-wellbeing/
LOCATION:Bologna\, Royal Hotel Carlton\, via montebello\, bologna\, Italia
CATEGORIES:Eventi patrocinati,Formazione e aggiornamento,Riunioni internazionali
ATTACH;FMTTYPE=image/jpeg:https://portale.fnomceo.it/wp-content/uploads/2024/03/EFS2024_Bologna_240x240-1.jpg
GEO:44.5016601;11.3422499
X-APPLE-STRUCTURED-LOCATION;VALUE=URI;X-ADDRESS=Bologna Royal Hotel Carlton via montebello bologna Italia;X-APPLE-RADIUS=500;X-TITLE=via montebello:geo:11.3422499,44.5016601
END:VEVENT
END:VCALENDAR