BEGIN:VCALENDAR
VERSION:2.0
PRODID:-//FNOMCeO - ECPv5.16.4//NONSGML v1.0//EN
CALSCALE:GREGORIAN
METHOD:PUBLISH
X-WR-CALNAME:FNOMCeO
X-ORIGINAL-URL:https://portale.fnomceo.it
X-WR-CALDESC:Eventi per FNOMCeO
BEGIN:VTIMEZONE
TZID:Europe/Rome
BEGIN:DAYLIGHT
TZOFFSETFROM:+0100
TZOFFSETTO:+0200
TZNAME:CEST
DTSTART:20200329T010000
END:DAYLIGHT
BEGIN:STANDARD
TZOFFSETFROM:+0200
TZOFFSETTO:+0100
TZNAME:CET
DTSTART:20201025T010000
END:STANDARD
END:VTIMEZONE
BEGIN:VEVENT
DTSTART;TZID=Europe/Rome:20200915T080000
DTEND;TZID=Europe/Rome:20200915T170000
DTSTAMP:20260423T084207
CREATED:20200901T141744Z
LAST-MODIFIED:20200901T141744Z
UID:52815-1600156800-1600189200@portale.fnomceo.it
SUMMARY:Webinar “La Sindrome di Alport”
DESCRIPTION:Il progetto prevede n. 7 di incontri formativi online offerti gratuitamente sulla piattaforma zoom al fine di offrire uno spazio di informazione e di confronto con i maggior esperti della patologia.\nGli incontri inizieranno dal 16 settembre al 15 dicembre 2020 (due webinar mensili).
URL:https://portale.fnomceo.it/eventi-fnomceo/webinar-la-sindrome-di-alport/
CATEGORIES:Formazione e aggiornamento
END:VEVENT
END:VCALENDAR