BEGIN:VCALENDAR
VERSION:2.0
PRODID:-//FNOMCeO - ECPv5.16.4//NONSGML v1.0//EN
CALSCALE:GREGORIAN
METHOD:PUBLISH
X-WR-CALNAME:FNOMCeO
X-ORIGINAL-URL:https://portale.fnomceo.it
X-WR-CALDESC:Eventi per FNOMCeO
BEGIN:VTIMEZONE
TZID:Europe/Rome
BEGIN:DAYLIGHT
TZOFFSETFROM:+0100
TZOFFSETTO:+0200
TZNAME:CEST
DTSTART:20210328T010000
END:DAYLIGHT
BEGIN:STANDARD
TZOFFSETFROM:+0200
TZOFFSETTO:+0100
TZNAME:CET
DTSTART:20211031T010000
END:STANDARD
END:VTIMEZONE
BEGIN:VEVENT
DTSTART;VALUE=DATE:20210405
DTEND;VALUE=DATE:20210412
DTSTAMP:20260425T182129
CREATED:20210211T143524Z
LAST-MODIFIED:20210223T104356Z
UID:56780-1617580800-1618185599@portale.fnomceo.it
SUMMARY:Webinar “The Vein Week – Educational & Health Awareness Project”
DESCRIPTION:the VEIN WEEK\nEDUCATIONAL & HEALTH AWARENESS PROJECT\nVISION\nTo enhance the already existing week of Public Health Awareness (April 5-11\, 2021)\n(http://www.whathealth.com/awareness/event/nationalpublichealthweek.html) and the\nWorld Health Day (April 7\, 2021)(https://www.who.int/westernpacific/news/events/worldhealth-day) by bringing increased visibility and related awareness on venous and\nlymphatic disease. \n\nTutte le informazioni sono disponibili a questo link.
URL:https://portale.fnomceo.it/eventi-fnomceo/webinar-the-vein-week-educational-health-awareness-project/
LOCATION:Web\, Italia
CATEGORIES:Formazione e aggiornamento,Riunioni internazionali
GEO:41.87194;12.56738
END:VEVENT
BEGIN:VEVENT
DTSTART;TZID=Europe/Rome:20210409T173000
DTEND;TZID=Europe/Rome:20210409T203000
DTSTAMP:20260425T182129
CREATED:20210315T160417Z
LAST-MODIFIED:20210315T160417Z
UID:57660-1617989400-1618000200@portale.fnomceo.it
SUMMARY:Convegno regionale AIDM Regione Piemonte "Neuroscienze e genere"
DESCRIPTION:Il 9 e il 30 aprile si svolgerà online il Convegno regionale AIDM Regione Piemonte “Neuroscienze e genere” in collaborazione con le sedi provinciali AIDM di Torino\, Alessandria e Asti. \nL’evento si svolgerà su piattaforma FAD in modalità sincrona ed erogherà 9 crediti ECM. \nIl programma\, la locandina\, i dettagli per la connessione e il modulo per l’iscrizione sono disponibili in allegato.
URL:https://portale.fnomceo.it/eventi-fnomceo/convegno-regionale-aidm-regione-piemonte-neuroscienze-e-genere/2021-04-09/
LOCATION:Webinar\, Italia
CATEGORIES:Formazione e aggiornamento,Medicina di Genere
ATTACH;FMTTYPE=image/jpeg:https://portale.fnomceo.it/wp-content/uploads/2021/03/aidm.jpg
GEO:41.87194;12.56738
END:VEVENT
END:VCALENDAR