BEGIN:VCALENDAR
VERSION:2.0
PRODID:-//FNOMCeO - ECPv5.16.4//NONSGML v1.0//EN
CALSCALE:GREGORIAN
METHOD:PUBLISH
X-WR-CALNAME:FNOMCeO
X-ORIGINAL-URL:https://portale.fnomceo.it
X-WR-CALDESC:Eventi per FNOMCeO
BEGIN:VTIMEZONE
TZID:Europe/Rome
BEGIN:DAYLIGHT
TZOFFSETFROM:+0100
TZOFFSETTO:+0200
TZNAME:CEST
DTSTART:20210328T010000
END:DAYLIGHT
BEGIN:STANDARD
TZOFFSETFROM:+0200
TZOFFSETTO:+0100
TZNAME:CET
DTSTART:20211031T010000
END:STANDARD
END:VTIMEZONE
BEGIN:VEVENT
DTSTART;TZID=Europe/Rome:20210628T150000
DTEND;TZID=Europe/Rome:20210628T180000
DTSTAMP:20260426T042027
CREATED:20210518T094143Z
LAST-MODIFIED:20210518T094143Z
UID:59212-1624892400-1624903200@portale.fnomceo.it
SUMMARY:XVI Giornata Nazionale per la prevenzione e la cura dell’incontinenza
DESCRIPTION:L’evento si terrà lunedì 28 giugno 2021 dalle ore 15 alle 18 e sarà trasmesso in diretta streaming.\nInterverranno le Istituzioni\, i Presidenti delle Associazioni\, gli Ordini Professionali e le Società Scientifiche.
URL:https://portale.fnomceo.it/eventi-fnomceo/xvi-giornata-nazionale-per-la-prevenzione-e-la-cura-dellincontinenza/
LOCATION:Web\, Italia
CATEGORIES:Formazione e aggiornamento
GEO:41.87194;12.56738
END:VEVENT
END:VCALENDAR