BEGIN:VCALENDAR
VERSION:2.0
PRODID:-//FNOMCeO - ECPv5.16.4//NONSGML v1.0//EN
CALSCALE:GREGORIAN
METHOD:PUBLISH
X-WR-CALNAME:FNOMCeO
X-ORIGINAL-URL:https://portale.fnomceo.it
X-WR-CALDESC:Eventi per FNOMCeO
BEGIN:VTIMEZONE
TZID:Europe/Rome
BEGIN:DAYLIGHT
TZOFFSETFROM:+0100
TZOFFSETTO:+0200
TZNAME:CEST
DTSTART:20220327T010000
END:DAYLIGHT
BEGIN:STANDARD
TZOFFSETFROM:+0200
TZOFFSETTO:+0100
TZNAME:CET
DTSTART:20221030T010000
END:STANDARD
END:VTIMEZONE
BEGIN:VEVENT
DTSTART;TZID=Europe/Rome:20220115T080000
DTEND;TZID=Europe/Rome:20220115T170000
DTSTAMP:20260424T124252
CREATED:20210920T085819Z
LAST-MODIFIED:20210920T085819Z
UID:61090-1642233600-1642266000@portale.fnomceo.it
SUMMARY:Bologna\, Corso triennale di agopuntura
DESCRIPTION:Quest’anno le lezioni saranno in presenza. \nEventuali cambiamenti verranno comunicati tempestivamente.
URL:https://portale.fnomceo.it/eventi-fnomceo/bologna-corso-triennale-di-agopuntura-2/
LOCATION:A.M.A.B. – Associazione Medici Agopuntori Bolognesi\, Via Antonio Canova\, 13\, Bologna\, 40138\, Italia
CATEGORIES:Formazione e aggiornamento
GEO:44.48599;11.40015
X-APPLE-STRUCTURED-LOCATION;VALUE=URI;X-ADDRESS=A.M.A.B. – Associazione Medici Agopuntori Bolognesi Via Antonio Canova 13 Bologna 40138 Italia;X-APPLE-RADIUS=500;X-TITLE=Via Antonio Canova\, 13:geo:11.40015,44.48599
END:VEVENT
END:VCALENDAR