BEGIN:VCALENDAR
VERSION:2.0
PRODID:-//FNOMCeO - ECPv5.16.4//NONSGML v1.0//EN
CALSCALE:GREGORIAN
METHOD:PUBLISH
X-WR-CALNAME:FNOMCeO
X-ORIGINAL-URL:https://portale.fnomceo.it
X-WR-CALDESC:Eventi per FNOMCeO
BEGIN:VTIMEZONE
TZID:Europe/Rome
BEGIN:DAYLIGHT
TZOFFSETFROM:+0100
TZOFFSETTO:+0200
TZNAME:CEST
DTSTART:20240331T010000
END:DAYLIGHT
BEGIN:STANDARD
TZOFFSETFROM:+0200
TZOFFSETTO:+0100
TZNAME:CET
DTSTART:20241027T010000
END:STANDARD
END:VTIMEZONE
BEGIN:VEVENT
DTSTART;TZID=Europe/Rome:20240909T080000
DTEND;TZID=Europe/Rome:20240911T183000
DTSTAMP:20260420T031646
CREATED:20240711T140400Z
LAST-MODIFIED:20240711T140400Z
UID:78662-1725868800-1726079400@portale.fnomceo.it
SUMMARY:Benevento\, Prima Edizione del “International Course of Audiological and Vestibular Medicine “Gianni Modugno”
DESCRIPTION:“International Course of Audiological and Vestibular Medicine “Gianni Modugno”\nBenevento\, Area Congressuale Maria SS delle Grazie\n9 – 10 – 11 settembre 2024\n \nSi terrà a Benevento la prima edizione del “International Course of Audiological and Vestibular Medicine “Gianni Modugno”\, durante il quale verranno approfonditi aspetti relativi alla documentazione clinica ed ai percorsi clinico-assistenziali diagnostici e riabilitativi. \n\nEvento patrocinato FNOMCeO
URL:https://portale.fnomceo.it/eventi-fnomceo/benevento-prima-edizione-del-international-course-of-audiological-and-vestibular-medicine-gianni-modugno/
LOCATION:Benevento\, Area Congressuale Maria SS delle Grazie\, Via Pacevecchia\, 53\, Benevento\, Italia
CATEGORIES:Eventi patrocinati,Formazione e aggiornamento,Riunioni internazionali
GEO:41.1193385;14.7945288
X-APPLE-STRUCTURED-LOCATION;VALUE=URI;X-ADDRESS=Benevento Area Congressuale Maria SS delle Grazie Via Pacevecchia 53 Benevento Italia;X-APPLE-RADIUS=500;X-TITLE=Via Pacevecchia\, 53:geo:14.7945288,41.1193385
END:VEVENT
BEGIN:VEVENT
DTSTART;TZID=Europe/Rome:20240909T083000
DTEND;TZID=Europe/Rome:20240909T133000
DTSTAMP:20260420T031646
CREATED:20240909T085759Z
LAST-MODIFIED:20240909T085759Z
UID:79430-1725870600-1725888600@portale.fnomceo.it
SUMMARY:Sassari\, “Aggiornamenti in Radioprotezione” - Seconda edizione
DESCRIPTION:“Aggiornamenti in Radioprotezione” – Seconda edizione\nSassari\, Hotel Grazia Deledda\n21 settembre 2024 \nL’OMCeO di Sassari organizza la seconda edizione del corso dal titolo “Aggiornamenti in Radioprotezione” presso la Sala Conferenze dell’Hotel Grazia Deledda.\n\nSi PRECISA che il convegno che si terrà sabato 21.09.2024\, è la SECONDA EDIZIONE dell’evento formativo svolto a Sassari sabato 20.04.2024\, pertanto potranno iscriversi tutti gli interessati\, tranne coloro che hanno partecipato alla prima edizione di aprile 2024.
URL:https://portale.fnomceo.it/eventi-fnomceo/sassari-aggiornamenti-in-radioprotezione-seconda-edizione/
LOCATION:Sassari\, Hotel Grazia Deledda\, Viale Dante n. 47\, Sassari\, Italia
CATEGORIES:Eventi degli Ordini,Formazione e aggiornamento
ORGANIZER;CN="OMCeO%20Sassari":MAILTO:ordine@omceoss.org
GEO:40.71871;8.56681
X-APPLE-STRUCTURED-LOCATION;VALUE=URI;X-ADDRESS=Sassari Hotel Grazia Deledda Viale Dante n. 47 Sassari Italia;X-APPLE-RADIUS=500;X-TITLE=Viale Dante n. 47:geo:8.56681,40.71871
END:VEVENT
END:VCALENDAR