BEGIN:VCALENDAR
VERSION:2.0
PRODID:-//FNOMCeO - ECPv5.16.4//NONSGML v1.0//EN
CALSCALE:GREGORIAN
METHOD:PUBLISH
X-WR-CALNAME:FNOMCeO
X-ORIGINAL-URL:https://portale.fnomceo.it
X-WR-CALDESC:Eventi per FNOMCeO
BEGIN:VTIMEZONE
TZID:Europe/Rome
BEGIN:DAYLIGHT
TZOFFSETFROM:+0100
TZOFFSETTO:+0200
TZNAME:CEST
DTSTART:20240331T010000
END:DAYLIGHT
BEGIN:STANDARD
TZOFFSETFROM:+0200
TZOFFSETTO:+0100
TZNAME:CET
DTSTART:20241027T010000
END:STANDARD
END:VTIMEZONE
BEGIN:VEVENT
DTSTART;TZID=Europe/Rome:20240924T083000
DTEND;TZID=Europe/Rome:20240926T173000
DTSTAMP:20260420T032635
CREATED:20240329T160305Z
LAST-MODIFIED:20240329T160305Z
UID:76846-1727166600-1727371800@portale.fnomceo.it
SUMMARY:VIII Congresso Fondazione Onda “Medicina di genere e personalizzazione delle terapie ai tempi dell’intelligenza artificiale”
DESCRIPTION:VIII Congresso Fondazione Onda “Medicina di genere e personalizzazione delle terapie ai tempi dell’intelligenza artificiale”\nPiattaforma Health Polis\n24 – 26 settembre 2024  \nL’Ottava edizione del Congresso avrà una connotazione multidisciplinare attraverso il coinvolgimento di numerosi professionisti afferenti a diversi ambiti specialistici. Approccio genere-specifico\, personalizzazione delle cure e innovazione tecnologica saranno i comuni denominatori dei temi dell’evento\, che spazieranno dagli aspetti clinici alla comunicazione\, alla formazione e alla ricerca. Come aree specialistiche\, saranno approfondite la salute mentale e riproduttiva\, le malattie croniche e oncologiche. \n\nEvento patrocinato FNOMCeO
URL:https://portale.fnomceo.it/eventi-fnomceo/viii-congresso-fondazione-onda-medicina-di-genere-e-personalizzazione-delle-terapie-ai-tempi-dellintelligenza-artificiale/
LOCATION:Web\, Italia
CATEGORIES:Eventi patrocinati,Formazione e aggiornamento,Medicina di Genere
GEO:41.87194;12.56738
END:VEVENT
BEGIN:VEVENT
DTSTART;TZID=Europe/Rome:20240924T173000
DTEND;TZID=Europe/Rome:20240924T200000
DTSTAMP:20260420T032635
CREATED:20240923T093735Z
LAST-MODIFIED:20240923T093735Z
UID:79783-1727199000-1727208000@portale.fnomceo.it
SUMMARY:Padova\, "Neoplasie ereditarie: il futuro nella ricerca"
DESCRIPTION:“Neoplasie ereditarie: il futuro nella ricerca”\nPadova\, Archivio Antico di Palazzo Bo\n24 settembre 2024 \nMartedì 24 settembre 2024 alle ore 17:30 presso l’Archivio Antico di Palazzo Bo di Padova si terrà l’evento “Neoplasie ereditarie: il futuro nella ricerca“. \nNell’ambito dell’evento si terrà la cerimonia di premiazione della terza edizione del premio “Giancarlo Zotti“.
URL:https://portale.fnomceo.it/eventi-fnomceo/padova-neoplasie-ereditarie-il-futuro-nella-ricerca/
LOCATION:Padova\, Archivio Antico di Palazzo Bo\, Via VIII febbraio\, 2\, Padova\, 35122\, Italia
CATEGORIES:Formazione e aggiornamento
GEO:45.4064754;11.876965
X-APPLE-STRUCTURED-LOCATION;VALUE=URI;X-ADDRESS=Padova Archivio Antico di Palazzo Bo Via VIII febbraio 2 Padova 35122 Italia;X-APPLE-RADIUS=500;X-TITLE=Via VIII febbraio\, 2:geo:11.876965,45.4064754
END:VEVENT
END:VCALENDAR