BEGIN:VCALENDAR
VERSION:2.0
PRODID:-//FNOMCeO - ECPv5.16.4//NONSGML v1.0//EN
CALSCALE:GREGORIAN
METHOD:PUBLISH
X-WR-CALNAME:FNOMCeO
X-ORIGINAL-URL:https://portale.fnomceo.it
X-WR-CALDESC:Eventi per FNOMCeO
BEGIN:VTIMEZONE
TZID:Europe/Rome
BEGIN:DAYLIGHT
TZOFFSETFROM:+0100
TZOFFSETTO:+0200
TZNAME:CEST
DTSTART:20260329T010000
END:DAYLIGHT
BEGIN:STANDARD
TZOFFSETFROM:+0200
TZOFFSETTO:+0100
TZNAME:CET
DTSTART:20261025T010000
END:STANDARD
END:VTIMEZONE
BEGIN:VEVENT
DTSTART;TZID=Europe/Rome:20260513T190000
DTEND;TZID=Europe/Rome:20260513T230000
DTSTAMP:20260420T134643
CREATED:20260417T152517Z
LAST-MODIFIED:20260417T152517Z
UID:89129-1778698800-1778713200@portale.fnomceo.it
SUMMARY:Brescia\, “Cultura e salute. Il medico come ponte tra la cultura tecnico-scientifica e la cultura umanistica”
DESCRIPTION:“Cultura e salute. Il medico come ponte tra la cultura tecnico-scientifica e la cultura umanistica”\nBrescia\, Sede OMCeO\n13 maggio 2026 \nSi terrà il 13 maggio 2026 a Brescia il convegno dal titolo “Cultura e salute. Il medico come ponte tra la cultura tecnico-scientifica e la cultura umanistica”\, promosso dall’OMCEO di Brescia\, durante il quale verranno approfonditi il rapporto tra medicina e dimensione umanistica\, la centralità della persona nel percorso di cura\, le diverse dimensioni della malattia (biologica\, soggettiva e sociale)\, il valore della medicina narrativa\, il ruolo della relazione medico-paziente e il confronto tra professionisti su esperienze cliniche e assistenziali.
URL:https://portale.fnomceo.it/eventi-fnomceo/brescia-cultura-e-salute-il-medico-come-ponte-tra-la-cultura-tecnico-scientifica-e-la-cultura-umanistica/
LOCATION:Brescia\, Sala Conferenze Ordine Medici Chirurghi e Odontoiatri\, Via Lamarmora 167\, brescia\, Italia
CATEGORIES:Eventi degli Ordini,Formazione e aggiornamento
ORGANIZER;CN="OMCeO%20Brescia":MAILTO:ufficiostampa@ordinemedici.brescia.it
GEO:45.5216359;10.2127118
X-APPLE-STRUCTURED-LOCATION;VALUE=URI;X-ADDRESS=Brescia Sala Conferenze Ordine Medici Chirurghi e Odontoiatri Via Lamarmora 167 brescia Italia;X-APPLE-RADIUS=500;X-TITLE=Via Lamarmora 167:geo:10.2127118,45.5216359
END:VEVENT
END:VCALENDAR