BEGIN:VCALENDAR
VERSION:2.0
PRODID:-//FNOMCeO - ECPv5.16.4//NONSGML v1.0//EN
CALSCALE:GREGORIAN
METHOD:PUBLISH
X-WR-CALNAME:FNOMCeO
X-ORIGINAL-URL:https://portale.fnomceo.it
X-WR-CALDESC:Eventi per FNOMCeO
BEGIN:VTIMEZONE
TZID:Europe/Rome
BEGIN:DAYLIGHT
TZOFFSETFROM:+0100
TZOFFSETTO:+0200
TZNAME:CEST
DTSTART:20230326T010000
END:DAYLIGHT
BEGIN:STANDARD
TZOFFSETFROM:+0200
TZOFFSETTO:+0100
TZNAME:CET
DTSTART:20231029T010000
END:STANDARD
END:VTIMEZONE
BEGIN:VEVENT
DTSTART;TZID=Europe/Rome:20230607T083000
DTEND;TZID=Europe/Rome:20230610T123000
DTSTAMP:20260424T050011
CREATED:20230419T134348Z
LAST-MODIFIED:20230419T134940Z
UID:71022-1686126600-1686400200@portale.fnomceo.it
SUMMARY:Roma\, 17th Annual International Conference on Clinical Ethics and Consultation on: Clinical Ethics: Consultation and/or Education?
DESCRIPTION:17th Annual International Conference on Clinical Ethics and Consultation on: Clinical Ethics: Consultation and/or Education?\nRoma\, Università Cattolica del Sacro Cuore\n7 – 10 giugno 2023 \n  \n\nEvento organizzato con patrocinio FNOMCeO
URL:https://portale.fnomceo.it/eventi-fnomceo/roma-17th-annual-international-conference-on-clinical-ethics-and-consultation-on-clinical-ethics-consultation-and-or-education/
LOCATION:Roma\, Università Cattolica del Sacro Cuore\, Largo F. Vito\, 1\, Roma\, Italia
CATEGORIES:Formazione e aggiornamento,Riunioni internazionali
GEO:41.9329857;12.4264833
X-APPLE-STRUCTURED-LOCATION;VALUE=URI;X-ADDRESS=Roma Università Cattolica del Sacro Cuore Largo F. Vito 1 Roma Italia;X-APPLE-RADIUS=500;X-TITLE=Largo F. Vito\, 1:geo:12.4264833,41.9329857
END:VEVENT
BEGIN:VEVENT
DTSTART;TZID=Europe/Rome:20230610T083000
DTEND;TZID=Europe/Rome:20230611T130000
DTSTAMP:20260424T050011
CREATED:20230518T103056Z
LAST-MODIFIED:20230530T131019Z
UID:71590-1686385800-1686488400@portale.fnomceo.it
SUMMARY:Bologna\, 13° Convegno sulle Malattie Mitocondriali – Mito Conference 2023” nell’ambito di EuroMit 2023
DESCRIPTION:“13° Convegno sulle Malattie Mitocondriali – Mito Conference 2023” nell’ambito di EuroMit 2023\nBologna\, Volvo Congress Center\n10 e 11 giugno 2023 \n  \nDal 2010 Mitocon organizza il Convegno nazionale sulle Malattie Mitocondriali – Mito Conference\, un’occasione di  aggiornamento\, confronto e scambio di esperienze per ricercatori\, medici\, studenti\, pazienti\, famiglie e caregiver\, grazie alla partecipazione dei principali esperti nazionali e internazionali. \nLa tradizionale Mito Conference è costituita da due eventi principali: la Convention scientifica e il Convegno per pazienti e famiglie. Quella di quest’anno sarà però un’edizione speciale: la Mito Conference si terrà infatti nell’ambito di EUROMIT 2023\, il convegno internazionale sulle malattie mitocondriali. \n\nEvento organizzato con patrocinio FNOMCeO
URL:https://portale.fnomceo.it/eventi-fnomceo/bologna-13-convegno-sulle-malattie-mitocondriali-mito-conference-2023-nellambito-di-euromit-2023/
LOCATION:Bologna\, Volvo Congress Center\, Piazza della Costituzione\, 4\, Bologna\, 40128\, Italia
CATEGORIES:Formazione e aggiornamento,Riunioni internazionali
GEO:44.5121449;11.3623472
X-APPLE-STRUCTURED-LOCATION;VALUE=URI;X-ADDRESS=Bologna Volvo Congress Center Piazza della Costituzione 4 Bologna 40128 Italia;X-APPLE-RADIUS=500;X-TITLE=Piazza della Costituzione\, 4:geo:11.3623472,44.5121449
END:VEVENT
END:VCALENDAR