BEGIN:VCALENDAR
VERSION:2.0
PRODID:-//FNOMCeO - ECPv5.16.4//NONSGML v1.0//EN
CALSCALE:GREGORIAN
METHOD:PUBLISH
X-WR-CALNAME:FNOMCeO
X-ORIGINAL-URL:https://portale.fnomceo.it
X-WR-CALDESC:Eventi per FNOMCeO
BEGIN:VTIMEZONE
TZID:Europe/Rome
BEGIN:DAYLIGHT
TZOFFSETFROM:+0100
TZOFFSETTO:+0200
TZNAME:CEST
DTSTART:20230326T010000
END:DAYLIGHT
BEGIN:STANDARD
TZOFFSETFROM:+0200
TZOFFSETTO:+0100
TZNAME:CET
DTSTART:20231029T010000
END:STANDARD
END:VTIMEZONE
BEGIN:VEVENT
DTSTART;TZID=Europe/Rome:20231110T090000
DTEND;TZID=Europe/Rome:20231111T143000
DTSTAMP:20260423T204339
CREATED:20230804T091845Z
LAST-MODIFIED:20230825T091900Z
UID:73080-1699606800-1699713000@portale.fnomceo.it
SUMMARY:Torino\, VIII Forum della Professione Ortodontica “Back to the Basics”
DESCRIPTION:VIII Forum della Professione Ortodontica “Back to the Basics”\nTorino\, AC Hotel Torino by Marriott\n10 – 11 novembre 2023 \n  \nPartire dalle origini per comprendere il futuro della professione: è l’idea di fondo del VIII Forum della Professione Ortodontica – “Back to the Basics”.\n\nRicerca\, clinica\, nuove frontiere tecnologiche saranno gli argomenti trattati nel corso dell’evento. \n\nEvento organizzato con patrocinio FNOMCeO
URL:https://portale.fnomceo.it/eventi-fnomceo/torino-viii-forum-della-professione-ortodontica-back-to-the-basics/
LOCATION:Torino\, AC Hotel Torino by Marriott\, Via Bisalta\, 11\, Torino\, 10126\, Italia
CATEGORIES:Formazione e aggiornamento,Riunioni internazionali
ATTACH;FMTTYPE=image/jpeg:https://portale.fnomceo.it/wp-content/uploads/2023/08/suso-novembre-2023.jpg
GEO:45.0360924;7.6674403
X-APPLE-STRUCTURED-LOCATION;VALUE=URI;X-ADDRESS=Torino AC Hotel Torino by Marriott Via Bisalta 11 Torino 10126 Italia;X-APPLE-RADIUS=500;X-TITLE=Via Bisalta\, 11:geo:7.6674403,45.0360924
END:VEVENT
END:VCALENDAR