BEGIN:VCALENDAR
VERSION:2.0
PRODID:-//FNOMCeO - ECPv5.16.4//NONSGML v1.0//EN
CALSCALE:GREGORIAN
METHOD:PUBLISH
X-WR-CALNAME:FNOMCeO
X-ORIGINAL-URL:https://portale.fnomceo.it
X-WR-CALDESC:Eventi per FNOMCeO
BEGIN:VTIMEZONE
TZID:Europe/Rome
BEGIN:DAYLIGHT
TZOFFSETFROM:+0100
TZOFFSETTO:+0200
TZNAME:CEST
DTSTART:20250330T010000
END:DAYLIGHT
BEGIN:STANDARD
TZOFFSETFROM:+0200
TZOFFSETTO:+0100
TZNAME:CET
DTSTART:20251026T010000
END:STANDARD
END:VTIMEZONE
BEGIN:VEVENT
DTSTART;TZID=Europe/Rome:20250402T090000
DTEND;TZID=Europe/Rome:20250402T163000
DTSTAMP:20260420T093714
CREATED:20250401T090011Z
LAST-MODIFIED:20250401T090011Z
UID:83635-1743584400-1743611400@portale.fnomceo.it
SUMMARY:Roma\, "Ricerca e futuro: il contributo dell'industria farmaceutica per la salute di domani."
DESCRIPTION:“Ricerca e futuro: il contributo dell’industria farmaceutica per la salute di domani”\nRoma\, Auditorium della Conciliazione\n2 aprile 2025 \nSi terrà il 2 aprile l’evento\, organizzato da Farmindustria\, dal titolo “Ricerca e futuro: il contributo dell’industria farmaceutica per la salute di domani”\, dedicato al ruolo strategico della ricerca e dell’innovazione per la salute e la competitività dell’Italia. Il programma affronterà temi chiave come l’evoluzione del capitale umano nella ricerca\, il contributo dell’intelligenza artificiale alla farmaceutica e le prospettive del Servizio Sanitario Nazionale. Sarà presente tra gli altri il presidente FNOMCeO Filippo Anelli.
URL:https://portale.fnomceo.it/eventi-fnomceo/roma-ricerca-e-futuro-il-contributo-dellindustria-farmaceutica-per-la-salute-di-domani/
LOCATION:Roma\, Auditorium della Conciliazione\, Via della Conciliazione\, 4\, Roma\, Italia
CATEGORIES:Formazione e aggiornamento,Riunioni internazionali
GEO:41.9027759;12.4634963
X-APPLE-STRUCTURED-LOCATION;VALUE=URI;X-ADDRESS=Roma Auditorium della Conciliazione Via della Conciliazione 4 Roma Italia;X-APPLE-RADIUS=500;X-TITLE=Via della Conciliazione\, 4:geo:12.4634963,41.9027759
END:VEVENT
END:VCALENDAR