BEGIN:VCALENDAR
VERSION:2.0
PRODID:-//FNOMCeO - ECPv5.16.4//NONSGML v1.0//EN
CALSCALE:GREGORIAN
METHOD:PUBLISH
X-WR-CALNAME:FNOMCeO
X-ORIGINAL-URL:https://portale.fnomceo.it
X-WR-CALDESC:Eventi per FNOMCeO
BEGIN:VTIMEZONE
TZID:Europe/Rome
BEGIN:DAYLIGHT
TZOFFSETFROM:+0100
TZOFFSETTO:+0200
TZNAME:CEST
DTSTART:20230326T010000
END:DAYLIGHT
BEGIN:STANDARD
TZOFFSETFROM:+0200
TZOFFSETTO:+0100
TZNAME:CET
DTSTART:20231029T010000
END:STANDARD
END:VTIMEZONE
BEGIN:VEVENT
DTSTART;TZID=Europe/Rome:20231201T090000
DTEND;TZID=Europe/Rome:20231202T180000
DTSTAMP:20260423T141148
CREATED:20231024T085740Z
LAST-MODIFIED:20231114T120001Z
UID:74125-1701421200-1701540000@portale.fnomceo.it
SUMMARY:Chieti\, XXII Congresso Nazionale e II Congresso Internazionale SIOI “L'endodonto in età evolutiva: conoscenze a confronto”
DESCRIPTION:XXII Congresso Nazionale e II Congresso Internazionale SIOI\n“L’endodonto in età evolutiva: conoscenze a confronto”\nChieti\, Università degli Studi “G. d’Annunzio”\n1 – 2 dicembre 2023 \n  \nIl XXII Congresso Nazionale SIOI si terrà a Chieti\, nella sede dell’Università degli Studi “G. d’Annunzio”\, l’1 e 2 dicembre 2023\, con workshop precongressuali organizzati già dal pomeriggio di giovedì 30 novembre. \nIl Congresso introduce un premio in memoria di Giuliano Falcolini\, uno dei pionieri dell’Odontoiatria Pediatrica italiana\,che sarà conferito al miglior poster discusso nella sessione precongressuale di venerdì 1 dicembre. \nParteciperanno\, in presenza e in modalità telematica\, alcuni Presidenti e membri di Società Internazionali quali l’A.M.O.P. (Associazione Mediterranea di Odontoiatria Pediatrica) e lo I.A.P.D. (Associazione Internazionale di Odontoiatria Pediatrica). \nPer la prima volta il Congresso svilupperà una specifica tematica: l’Endodonto dei denti decidui e dei denti in età evolutiva\, trattato sia nella sua anatomia e fisiologia che nella fisiopatologia. \n  \n\nEvento organizzato con patrocinio FNOMCeO
URL:https://portale.fnomceo.it/eventi-fnomceo/chieti-xxii-congresso-nazionale-e-ii-congresso-internazionale-sioi-lendodonto-in-eta-evolutiva-conoscenze-a-confronto/
LOCATION:Chieti\, Università degli Studi “Gabriele d’Annunzio”\, Via dei Vestini\, 31\, Chieti\, 66100\, Italia
CATEGORIES:Eventi patrocinati,Formazione e aggiornamento,Riunioni internazionali
ATTACH;FMTTYPE=image/jpeg:https://portale.fnomceo.it/wp-content/uploads/2023/10/391702420_831350815395457_501914354674706130_n.jpg
GEO:42.3682659;14.1505566
X-APPLE-STRUCTURED-LOCATION;VALUE=URI;X-ADDRESS=Chieti Università degli Studi “Gabriele d’Annunzio” Via dei Vestini 31 Chieti 66100 Italia;X-APPLE-RADIUS=500;X-TITLE=Via dei Vestini\, 31:geo:14.1505566,42.3682659
END:VEVENT
END:VCALENDAR