BEGIN:VCALENDAR
VERSION:2.0
PRODID:-//FNOMCeO - ECPv5.16.4//NONSGML v1.0//EN
CALSCALE:GREGORIAN
METHOD:PUBLISH
X-WR-CALNAME:FNOMCeO
X-ORIGINAL-URL:https://portale.fnomceo.it
X-WR-CALDESC:Eventi per FNOMCeO
BEGIN:VTIMEZONE
TZID:Europe/Rome
BEGIN:DAYLIGHT
TZOFFSETFROM:+0100
TZOFFSETTO:+0200
TZNAME:CEST
DTSTART:20250330T010000
END:DAYLIGHT
BEGIN:STANDARD
TZOFFSETFROM:+0200
TZOFFSETTO:+0100
TZNAME:CET
DTSTART:20251026T010000
END:STANDARD
END:VTIMEZONE
BEGIN:VEVENT
DTSTART;TZID=Europe/Rome:20250529T080000
DTEND;TZID=Europe/Rome:20250530T170000
DTSTAMP:20260423T094826
CREATED:20250228T111309Z
LAST-MODIFIED:20250228T111309Z
UID:83186-1748505600-1748624400@portale.fnomceo.it
SUMMARY:Codroipo (UD)\, “L’AI per cambiare la Sanità”
DESCRIPTION:“L’AI per cambiare la Sanità”\nCodroipo (UD)\, Villa Manin\n29 – 30 maggio 2025  \nNei giorni 29 e 30 maggio si terrà il Secondo Laboratorio Sanità 20/30 AI (Intelligenza Artificiale)\, promosso in collaborazione con la Regione Friuli Venezia Giulia. L’evento\, dal titolo “L’AI per cambiare la Sanità”\, sarà un’occasione di confronto tra istituzioni sanitarie\, esperti\, professionisti e partner tecnologici per promuovere un uso responsabile dell’Intelligenza Artificiale in sanità\, con l’obiettivo di rendere il sistema più resiliente\, sostenibile ed equo. Tra i temi affrontati: il supporto dell’AI nella presa in carico dei pazienti fragili\, la telemedicina\, la bioinformatica\, l’innovazione nei percorsi clinici\, l’automazione delle attività sanitarie e le implicazioni etiche e giuridiche. \n\nEvento patrocinato FNOMCeO
URL:https://portale.fnomceo.it/eventi-fnomceo/codroipo-ud-lai-per-cambiare-la-sanita/
LOCATION:Codroipo (UD) – Villa Manin\, Stradone Manin\, Codroipo (UD)\, Italia
CATEGORIES:Eventi patrocinati,Formazione e aggiornamento
GEO:45.956925;13.0110696
X-APPLE-STRUCTURED-LOCATION;VALUE=URI;X-ADDRESS=Codroipo (UD) – Villa Manin Stradone Manin Codroipo (UD) Italia;X-APPLE-RADIUS=500;X-TITLE=Stradone Manin:geo:13.0110696,45.956925
END:VEVENT
END:VCALENDAR