BEGIN:VCALENDAR
VERSION:2.0
PRODID:-//FNOMCeO - ECPv5.16.4//NONSGML v1.0//EN
CALSCALE:GREGORIAN
METHOD:PUBLISH
X-WR-CALNAME:FNOMCeO
X-ORIGINAL-URL:https://portale.fnomceo.it
X-WR-CALDESC:Eventi per FNOMCeO
BEGIN:VTIMEZONE
TZID:Europe/Rome
BEGIN:DAYLIGHT
TZOFFSETFROM:+0100
TZOFFSETTO:+0200
TZNAME:CEST
DTSTART:20180325T010000
END:DAYLIGHT
BEGIN:STANDARD
TZOFFSETFROM:+0200
TZOFFSETTO:+0100
TZNAME:CET
DTSTART:20181028T010000
END:STANDARD
END:VTIMEZONE
BEGIN:VEVENT
DTSTART;TZID=Europe/Rome:20180406T143000
DTEND;TZID=Europe/Rome:20180406T193000
DTSTAMP:20260424T045456
CREATED:20180306T172439Z
LAST-MODIFIED:20180306T172439Z
UID:31881-1523025000-1523043000@portale.fnomceo.it
SUMMARY:Avere cura nella fine della vita
DESCRIPTION:Il corso di aggiornamento – organizzato dall’Omceo Sassari in collaborazione con l’Associazione Franco Mura Onlus – è patrocinato dall’Università degli Studi di Sassari e dalla Federazione Cure Palliative Onlus. Il corso è accreditato nell’ambito del programma di formazione continua in medicina (ECM) per la professione di Medico Chirurgo per un massimo di 100 partecipanti e riconosce 4 crediti formativi. Le preiscrizioni saranno aperte martedì 6 marzo 2018. Gli interessati potranno iscriversi attraverso la procedura di iscrizione on line.
URL:https://portale.fnomceo.it/eventi-fnomceo/cura-nella-fine-della-vita/
LOCATION:Sala Conferenze dell’Hotel Grazia Deledda\, Viale Dante 47\, Sassari\, Italia
CATEGORIES:Eventi degli Ordini
ORGANIZER;CN="OMCeO%20Sassari":MAILTO:ordine@omceoss.org
GEO:40.71871;8.56681
X-APPLE-STRUCTURED-LOCATION;VALUE=URI;X-ADDRESS=Sala Conferenze dell’Hotel Grazia Deledda Viale Dante 47 Sassari Italia;X-APPLE-RADIUS=500;X-TITLE=Viale Dante 47:geo:8.56681,40.71871
END:VEVENT
END:VCALENDAR