BEGIN:VCALENDAR
VERSION:2.0
PRODID:-//FNOMCeO - ECPv5.16.4//NONSGML v1.0//EN
CALSCALE:GREGORIAN
METHOD:PUBLISH
X-WR-CALNAME:FNOMCeO
X-ORIGINAL-URL:https://portale.fnomceo.it
X-WR-CALDESC:Eventi per FNOMCeO
BEGIN:VTIMEZONE
TZID:Europe/Rome
BEGIN:DAYLIGHT
TZOFFSETFROM:+0100
TZOFFSETTO:+0200
TZNAME:CEST
DTSTART:20200329T010000
END:DAYLIGHT
BEGIN:STANDARD
TZOFFSETFROM:+0200
TZOFFSETTO:+0100
TZNAME:CET
DTSTART:20201025T010000
END:STANDARD
END:VTIMEZONE
BEGIN:VEVENT
DTSTART;TZID=Europe/Rome:20201001T080000
DTEND;TZID=Europe/Rome:20201001T170000
DTSTAMP:20260423T041635
CREATED:20200721T091432Z
LAST-MODIFIED:20200721T091432Z
UID:52160-1601539200-1601571600@portale.fnomceo.it
SUMMARY:#diamoduemani2020 – Campagna di sensibilizzazione e informazione sulle patologie reumatologiche e rare
DESCRIPTION:
URL:https://portale.fnomceo.it/eventi-fnomceo/diamoduemani2020-campagna-di-sensibilizzazione-e-informazione-sulle-patologie-reumatologiche-e-rare/
END:VEVENT
END:VCALENDAR