BEGIN:VCALENDAR
VERSION:2.0
PRODID:-//FNOMCeO - ECPv5.16.4//NONSGML v1.0//EN
CALSCALE:GREGORIAN
METHOD:PUBLISH
X-WR-CALNAME:FNOMCeO
X-ORIGINAL-URL:https://portale.fnomceo.it
X-WR-CALDESC:Eventi per FNOMCeO
BEGIN:VTIMEZONE
TZID:Europe/Rome
BEGIN:DAYLIGHT
TZOFFSETFROM:+0100
TZOFFSETTO:+0200
TZNAME:CEST
DTSTART:20210328T010000
END:DAYLIGHT
BEGIN:STANDARD
TZOFFSETFROM:+0200
TZOFFSETTO:+0100
TZNAME:CET
DTSTART:20211031T010000
END:STANDARD
END:VTIMEZONE
BEGIN:VEVENT
DTSTART;TZID=Europe/Rome:20211009T080000
DTEND;TZID=Europe/Rome:20211009T170000
DTSTAMP:20260419T142727
CREATED:20211029T072938Z
LAST-MODIFIED:20211030T074608Z
UID:62002-1633766400-1633798800@portale.fnomceo.it
SUMMARY:Edizione speciale dei Pomeriggi della Medicina
DESCRIPTION:Dopo la pausa forzata a causa dell’emergenza Covid-19\, i Pomeriggi della Medicina tornano con un’edizione speciale dal 9 al 23 novembre\, per iniziativa dell’Ordine dei Medici e del Comune di Brescia. \nCovid-19 | Il tempo del noi è l’orizzonte che ispira il ciclo di tre incontri pensati per l’intera cittadinanza\, prendendo spunto dalla lezione più importante della pandemia Covid-19\, che ci insegna come davanti a un’emergenza globale è necessario riscoprire il senso di comunità\, e imparare a “pensarsi insieme”. Dalle grandi crisi\, infatti\, si esce solo uniti\, abbandonando sterili individualismi per entrare in un nuovo tempo\, il “tempo del noi”. \nL’obiettivo di questa edizione speciale è approfondire insieme come il Covid ci ha cambiato\, qual è stato l’impatto della pandemia sulla scienza e sulla comunicazione ai cittadini\, e come è possibile promuovere una salute globale che possa metterci al riparo dalle pandemie del futuro. \nGli incontri si svolgeranno a Brescia\, presso l’auditorium San Barnaba\, con cadenza settimanale e inizio alle ore 17.30. \nLa partecipazione è gratuita\, ma è necessaria la prenotazione sul portale pomeriggidellamedicina.it e l’esibizione del Green Pass. \nGli incontri verranno trasmessi anche in diretta streaming sulla pagina Facebook ordinemedicibrescia.it.
URL:https://portale.fnomceo.it/eventi-fnomceo/edizione-speciale-dei-pomeriggi-della-medicina/
LOCATION:Brescia\, Auditorium San Barnaba\, Corso Magenta\, 44\, Brescia\, 25121\, Italia
CATEGORIES:Eventi degli Ordini,Formazione e aggiornamento
ORGANIZER;CN="OMCeO%20Brescia":MAILTO:ufficiostampa@ordinemedici.brescia.it
GEO:45.5356967;10.2261097
X-APPLE-STRUCTURED-LOCATION;VALUE=URI;X-ADDRESS=Brescia Auditorium San Barnaba Corso Magenta 44 Brescia 25121 Italia;X-APPLE-RADIUS=500;X-TITLE=Corso Magenta\, 44:geo:10.2261097,45.5356967
END:VEVENT
END:VCALENDAR