BEGIN:VCALENDAR
VERSION:2.0
PRODID:-//FNOMCeO - ECPv5.16.4//NONSGML v1.0//EN
CALSCALE:GREGORIAN
METHOD:PUBLISH
X-WR-CALNAME:FNOMCeO
X-ORIGINAL-URL:https://portale.fnomceo.it
X-WR-CALDESC:Eventi per FNOMCeO
BEGIN:VTIMEZONE
TZID:Europe/Rome
BEGIN:DAYLIGHT
TZOFFSETFROM:+0100
TZOFFSETTO:+0200
TZNAME:CEST
DTSTART:20190331T010000
END:DAYLIGHT
BEGIN:STANDARD
TZOFFSETFROM:+0200
TZOFFSETTO:+0100
TZNAME:CET
DTSTART:20191027T010000
END:STANDARD
END:VTIMEZONE
BEGIN:VEVENT
DTSTART;TZID=Europe/Rome:20191214T083000
DTEND;TZID=Europe/Rome:20191214T180000
DTSTAMP:20260421T115041
CREATED:20191126T160741Z
LAST-MODIFIED:20191126T160741Z
UID:47093-1576312200-1576346400@portale.fnomceo.it
SUMMARY:Enna\, I corretti stili di vita come prevenzione delle malattie croniche non trasmissibili
DESCRIPTION:La prevalenza e l’incidenza dell’obesità e del diabete mellito sono in costante aumento nel mondo ed in particolare nei paesi occidentali. Queste due patologie\, insieme alla sedentarietà\, all’ipertensione arteriosa ed alle dislipidemie\, sono tra le cause principali delle malattie cardiovascolari. I corretti stili di vita (dieta e attività fisica) possono incidere favorevolmente nella riduzione della prevalenza dell’obesità e del diabete mellito. \nE’ pertanto importante promuoverli nella popolazione generale ed il medico di famiglia può dare un valido contributo alla loro diffusione
URL:https://portale.fnomceo.it/eventi-fnomceo/enna-i-corretti-stili-di-vita-come-prevenzione-delle-malattie-croniche-non-trasmissibili/
LOCATION:OMCeO Enna\, Via Leonardo da Vinci\, 7\, Enna\, 94100\, Italia
CATEGORIES:Eventi degli Ordini,Formazione e aggiornamento
GEO:37.5621216;14.2964937
X-APPLE-STRUCTURED-LOCATION;VALUE=URI;X-ADDRESS=OMCeO Enna Via Leonardo da Vinci 7 Enna 94100 Italia;X-APPLE-RADIUS=500;X-TITLE=Via Leonardo da Vinci\, 7:geo:14.2964937,37.5621216
END:VEVENT
END:VCALENDAR