BEGIN:VCALENDAR
VERSION:2.0
PRODID:-//FNOMCeO - ECPv5.16.4//NONSGML v1.0//EN
CALSCALE:GREGORIAN
METHOD:PUBLISH
X-WR-CALNAME:FNOMCeO
X-ORIGINAL-URL:https://portale.fnomceo.it
X-WR-CALDESC:Eventi per FNOMCeO
BEGIN:VTIMEZONE
TZID:Europe/Rome
BEGIN:DAYLIGHT
TZOFFSETFROM:+0100
TZOFFSETTO:+0200
TZNAME:CEST
DTSTART:20240331T010000
END:DAYLIGHT
BEGIN:STANDARD
TZOFFSETFROM:+0200
TZOFFSETTO:+0100
TZNAME:CET
DTSTART:20241027T010000
END:STANDARD
END:VTIMEZONE
BEGIN:VEVENT
DTSTART;TZID=Europe/Rome:20240224T083000
DTEND;TZID=Europe/Rome:20240224T140000
DTSTAMP:20260424T093104
CREATED:20240129T131636Z
LAST-MODIFIED:20240129T131636Z
UID:75459-1708763400-1708783200@portale.fnomceo.it
SUMMARY:Firenze\, Stili di vita e rapporti con malattie a forte impatto sociale in campo medico e odontoiatrico
DESCRIPTION:Stili di vita e rapporti con malattie a forte impatto sociale\n in campo medico e odontoiatrico\nFirenze\, Salone dei Cinquecento\n24 febbraio 2024 \n\nL’evento\, organizzato da OMCeO Firenze\, si svolgerà in presenza. \n\nN. 3\,5 CREDITI ECM\nAut.Min.n. 1809 – 408036 – Evento C08885
URL:https://portale.fnomceo.it/eventi-fnomceo/firenze-stili-di-vita-e-rapporti-con-malattie-a-forte-impatto-sociale-in-campo-medico-e-odontoiatrico/
LOCATION:Firenze\, Salone dei Cinquecento\, Piazza della Signoria\, 2\, Firenze\, Italia
CATEGORIES:Eventi degli Ordini,Formazione e aggiornamento
ATTACH;FMTTYPE=image/png:https://portale.fnomceo.it/wp-content/uploads/2024/01/omceo-firenze-2024.png
GEO:43.7693616;11.2552321
X-APPLE-STRUCTURED-LOCATION;VALUE=URI;X-ADDRESS=Firenze Salone dei Cinquecento Piazza della Signoria 2 Firenze Italia;X-APPLE-RADIUS=500;X-TITLE=Piazza della Signoria\, 2:geo:11.2552321,43.7693616
END:VEVENT
END:VCALENDAR