BEGIN:VCALENDAR
VERSION:2.0
PRODID:-//FNOMCeO - ECPv5.16.4//NONSGML v1.0//EN
CALSCALE:GREGORIAN
METHOD:PUBLISH
X-WR-CALNAME:FNOMCeO
X-ORIGINAL-URL:https://portale.fnomceo.it
X-WR-CALDESC:Eventi per FNOMCeO
BEGIN:VTIMEZONE
TZID:Europe/Rome
BEGIN:DAYLIGHT
TZOFFSETFROM:+0100
TZOFFSETTO:+0200
TZNAME:CEST
DTSTART:20190331T010000
END:DAYLIGHT
BEGIN:STANDARD
TZOFFSETFROM:+0200
TZOFFSETTO:+0100
TZNAME:CET
DTSTART:20191027T010000
END:STANDARD
END:VTIMEZONE
BEGIN:VEVENT
DTSTART;TZID=Europe/Rome:20191002T080000
DTEND;TZID=Europe/Rome:20191002T170000
DTSTAMP:20260420T023105
CREATED:20191002T120517Z
LAST-MODIFIED:20191002T120517Z
UID:45620-1570003200-1570035600@portale.fnomceo.it
SUMMARY:Firenze\, “Togliamoci un peso! Obesità infantile: educare e prevenire”
DESCRIPTION:Scopo del convegno sarà inquadrare\, secondo i più recenti dati di letteratura\, condizioni patologiche e fisiologiche\, riunendo specialisti di diverse branche per fornire gli elementi per un’alimentazione e uno stile di vita sani ed equilibrati. \nCrediti assegnati: 8\nDurata del corso (in ore): 8
URL:https://portale.fnomceo.it/eventi-fnomceo/firenze-togliamoci-un-peso-obesita-infantile-educare-e-prevenire/
LOCATION:Firenze\, Azienda Ospedaliera-Universitaria Meyer\, Viale Gaetano Pieraccini\, 24\, Firenze\, 50139\, Italia
GEO:43.81009;11.25085
X-APPLE-STRUCTURED-LOCATION;VALUE=URI;X-ADDRESS=Firenze Azienda Ospedaliera-Universitaria Meyer Viale Gaetano Pieraccini 24 Firenze 50139 Italia;X-APPLE-RADIUS=500;X-TITLE=Viale Gaetano Pieraccini\, 24:geo:11.25085,43.81009
END:VEVENT
END:VCALENDAR