BEGIN:VCALENDAR
VERSION:2.0
PRODID:-//FNOMCeO - ECPv5.16.4//NONSGML v1.0//EN
CALSCALE:GREGORIAN
METHOD:PUBLISH
X-WR-CALNAME:FNOMCeO
X-ORIGINAL-URL:https://portale.fnomceo.it
X-WR-CALDESC:Eventi per FNOMCeO
BEGIN:VTIMEZONE
TZID:Europe/Rome
BEGIN:DAYLIGHT
TZOFFSETFROM:+0100
TZOFFSETTO:+0200
TZNAME:CEST
DTSTART:20190331T010000
END:DAYLIGHT
BEGIN:STANDARD
TZOFFSETFROM:+0200
TZOFFSETTO:+0100
TZNAME:CET
DTSTART:20191027T010000
END:STANDARD
END:VTIMEZONE
BEGIN:VEVENT
DTSTART;TZID=Europe/Rome:20190608T083000
DTEND;TZID=Europe/Rome:20190608T173000
DTSTAMP:20260423T212319
CREATED:20190605T121533Z
LAST-MODIFIED:20190605T121533Z
UID:42721-1559982600-1560015000@portale.fnomceo.it
SUMMARY:Foggia\,  Convegno "Educazione alla Salute e rapporto con l'Ambiente. Conoscenze ed impegno dei Medici sul territorio alla luce dell'art. 5 del Codice Deontologico Medico"
DESCRIPTION:La Commissione “Ambiente e Salute” dell’ Ordine dei Medici di Foggia\, in collaborazione con la sezione provinciale ISDE-Associazione Medici per l’Ambiente\, organizza un convegno dal nome “Educare alla salute e rapporto con l’Ambiente”\, conoscenze e impegno dei medici sul territorio alla luce dell’art. 5 del Codice Deontologico Medico. Da sempre compito dell’Ordine dei Medici e quello di promuovere la conoscenza e il rispetto del Codice Deontologico e favorire la divulgazione scientifica. In particolare l’articolo 5 recita “il medico\, nel considerare l’ambiente di vita e di lavoro e i livelli di istruzione e di equità sociale quali determinanti fondamentali della salute individuale e collettiva\, collabora all’attuazione di idonee politiche educative\, di prevenzione e di contrasto alle disuguaglianze alla salute e promuove l’adozione di stili di vita salubri\, informando sui principali fattori di rischio. Il medico\, sulla base delle conoscenze disponibili\, si adopera per una permanente comunicazione sull’esposizione e sulla vulnerabilità a fattori di rischio ambientale e favorisce un utilizzo appropriato delle risorse naturali\, per un ecosistema equilibrato e vivibile anche dalle future generazioni”.\nIl nostro Codice Deontologico riserva un intero articolo al rapporto tra Salute e Ambiente\, poco spazio viene dedicato invece dal mondo accademico e dalla classe medica in generale a tale argomento\, motivo per il quale si rende necessario rivedere i programmi di formazione medica a tutti livelli. \nLa Commissione “Ambiente e Salute” dell’Ordine dei Medici di Foggia con questo evento formativo ha l’obiettivo di fornire ai Medici spunti per cominciare a considerare l’impatto dell’inquinamento Ambientale sulla Salute. L’evento in programma l’8 giugno presso la Sala Trecca dell’Ordine dei Medici di Foggia focalizzerà l’attenzione sulle principali conoscenze in materia. \nSarà riservata un’intera sezione alle esperienze di formazione e ricerca su problematiche ambientali\, attive a livello nazionale e locale\, dando voce alle istituzioni locali preposte alla prevenzione e alla sorveglianza epidemiologica e ambientale. Il gruppo di lavoro della Commissione A&S infatti partecipa attivamente al progetto nazionale RIMSA (Rete Italiana Medici Sentinella per l’Ambiente).\nIl convegno è accreditato per medici\, odontoiatri\, farmacisti\, biologi ed è aperto anche ad altre figure professionali e soggetti che vorranno partecipare come semplici uditori. Si invitano dunque tutti gli interessati a partecipare a questo importante evento per Foggia\, per tutta la Capitanata e non solo. \nL’evento sarà totalmente “plastic free”\, a sottolineare come la salute passi anche attraverso la sostenibilità ambientale.
URL:https://portale.fnomceo.it/eventi-fnomceo/foggia-convegno-educazione-alla-salute-e-rapporto-con-lambiente-conoscenze-ed-impegno-dei-medici-sul-territorio-alla-luce-dellart-5-del-codice-deontologico-medico/
LOCATION:Foggia\, Auditorium “Pasquale Trecca” – OMCeO Foggia\, Via Vincenzo Acquaviva\, 48\, Foggia\, Italia
CATEGORIES:Eventi degli Ordini,Formazione e aggiornamento
ORGANIZER;CN="OMCeO%20Foggia":MAILTO:omceofg@omceofg.it
GEO:41.4611526;15.5353138
X-APPLE-STRUCTURED-LOCATION;VALUE=URI;X-ADDRESS=Foggia Auditorium “Pasquale Trecca” – OMCeO Foggia Via Vincenzo Acquaviva 48 Foggia Italia;X-APPLE-RADIUS=500;X-TITLE=Via Vincenzo Acquaviva\, 48:geo:15.5353138,41.4611526
END:VEVENT
END:VCALENDAR