BEGIN:VCALENDAR
VERSION:2.0
PRODID:-//FNOMCeO - ECPv5.16.4//NONSGML v1.0//EN
CALSCALE:GREGORIAN
METHOD:PUBLISH
X-WR-CALNAME:FNOMCeO
X-ORIGINAL-URL:https://portale.fnomceo.it
X-WR-CALDESC:Eventi per FNOMCeO
BEGIN:VTIMEZONE
TZID:Europe/Rome
BEGIN:DAYLIGHT
TZOFFSETFROM:+0100
TZOFFSETTO:+0200
TZNAME:CEST
DTSTART:20190331T010000
END:DAYLIGHT
BEGIN:STANDARD
TZOFFSETFROM:+0200
TZOFFSETTO:+0100
TZNAME:CET
DTSTART:20191027T010000
END:STANDARD
END:VTIMEZONE
BEGIN:VEVENT
DTSTART;TZID=Europe/Rome:20191011T080000
DTEND;TZID=Europe/Rome:20191012T170000
DTSTAMP:20260424T062635
CREATED:20191002T120045Z
LAST-MODIFIED:20191002T120045Z
UID:45617-1570780800-1570899600@portale.fnomceo.it
SUMMARY:Foggia\, “XLVII Giornate Mediche Daune: Agorà”
DESCRIPTION:Saranno trattate\, in due giornate\, problematiche mediche completamente diverse tra loro\, andando dalla “fertilità” alle” IBD”\, da ”inquinamento e lavoro” alle “malattie tromboemboliche” per concludere con ”traumi del piede e della caviglia nell’attività sportiva amatoriale”. La diversità degli argomenti è stata espressamente voluta\, rispetto ad altre edizioni delle GMD monotematiche\, per abbracciare più temi e determinare un maggior coinvolgimento dei colleghi.
URL:https://portale.fnomceo.it/eventi-fnomceo/foggia-xlvii-giornate-mediche-daune-agora/
LOCATION:Foggia\, Auditorium “Pasquale Trecca” – OMCeO Foggia\, Via Vincenzo Acquaviva\, 48\, Foggia\, Italia
CATEGORIES:Eventi degli Ordini,Formazione e aggiornamento
ORGANIZER;CN="OMCeO%20Foggia":MAILTO:omceofg@omceofg.it
GEO:41.4611526;15.5353138
X-APPLE-STRUCTURED-LOCATION;VALUE=URI;X-ADDRESS=Foggia Auditorium “Pasquale Trecca” – OMCeO Foggia Via Vincenzo Acquaviva 48 Foggia Italia;X-APPLE-RADIUS=500;X-TITLE=Via Vincenzo Acquaviva\, 48:geo:15.5353138,41.4611526
END:VEVENT
END:VCALENDAR