BEGIN:VCALENDAR
VERSION:2.0
PRODID:-//FNOMCeO - ECPv5.16.4//NONSGML v1.0//EN
CALSCALE:GREGORIAN
METHOD:PUBLISH
X-WR-CALNAME:FNOMCeO
X-ORIGINAL-URL:https://portale.fnomceo.it
X-WR-CALDESC:Eventi per FNOMCeO
BEGIN:VTIMEZONE
TZID:Europe/Rome
BEGIN:DAYLIGHT
TZOFFSETFROM:+0100
TZOFFSETTO:+0200
TZNAME:CEST
DTSTART:20190331T010000
END:DAYLIGHT
BEGIN:STANDARD
TZOFFSETFROM:+0200
TZOFFSETTO:+0100
TZNAME:CET
DTSTART:20191027T010000
END:STANDARD
END:VTIMEZONE
BEGIN:VEVENT
DTSTART;TZID=Europe/Rome:20190921T090000
DTEND;TZID=Europe/Rome:20190921T170000
DTSTAMP:20260423T140611
CREATED:20190727T081654Z
LAST-MODIFIED:20190727T081654Z
UID:44050-1569056400-1569085200@portale.fnomceo.it
SUMMARY:Genova\, “La Salute Globale”
DESCRIPTION:In occasione della 9° Giornata in memoria di Lorenzo Tomatis e della 7° Giornata Nazionale sulla Salute Globale\, la OMCeO Genova e ISDE Italia promuovono l’evento “La salute globale”.
URL:https://portale.fnomceo.it/eventi-fnomceo/genova-la-salute-globale/
LOCATION:OMCeO Genova\, Piazza della Vittoria 12\, Genova\, Italia
CATEGORIES:Eventi degli Ordini,Formazione e aggiornamento
GEO:44.4019836;8.9451628
X-APPLE-STRUCTURED-LOCATION;VALUE=URI;X-ADDRESS=OMCeO Genova Piazza della Vittoria 12 Genova Italia;X-APPLE-RADIUS=500;X-TITLE=Piazza della Vittoria 12:geo:8.9451628,44.4019836
END:VEVENT
END:VCALENDAR