BEGIN:VCALENDAR
VERSION:2.0
PRODID:-//FNOMCeO - ECPv5.16.4//NONSGML v1.0//EN
CALSCALE:GREGORIAN
METHOD:PUBLISH
X-WR-CALNAME:FNOMCeO
X-ORIGINAL-URL:https://portale.fnomceo.it
X-WR-CALDESC:Eventi per FNOMCeO
BEGIN:VTIMEZONE
TZID:Europe/Rome
BEGIN:DAYLIGHT
TZOFFSETFROM:+0100
TZOFFSETTO:+0200
TZNAME:CEST
DTSTART:20200329T010000
END:DAYLIGHT
BEGIN:STANDARD
TZOFFSETFROM:+0200
TZOFFSETTO:+0100
TZNAME:CET
DTSTART:20201025T010000
END:STANDARD
END:VTIMEZONE
BEGIN:VEVENT
DTSTART;TZID=Europe/Rome:20200929T080000
DTEND;TZID=Europe/Rome:20200929T170000
DTSTAMP:20260423T055711
CREATED:20200918T142212Z
LAST-MODIFIED:20200918T142212Z
UID:53221-1601366400-1601398800@portale.fnomceo.it
SUMMARY:Giornata mondiale per il cuore
DESCRIPTION:Da 20 anni\, in qualità di membro di riferimento della World Heart Federation per l’Italia\, la Federazione Italiana per il cuore partecipa alle iniziative realizzate in collaborazione con CONACUORE (100 associazioni di pazienti)\, partner storico di questa iniziativa\, e con il patrocinio di numerosi enti e delle Società Scientifiche nazionali che aderiscono. Il claim della GMC 2020 è “USA IL CUORE PER COMBATTERE LE MALATTIE CARDIOVASCOLARI”. \n\nAncora oggi queste patologie sono la prima causa di morte e di invalidità a lungo termine\, con un conseguente peso sia economico che morale sulle famiglie. Inoltre\, costituiscono una delle prime voci di costo delle prestazioni previdenziali in Italia. Per vincere la guerra contro queste malattie\, la prevenzione\, soprattutto se iniziata da giovani\, è un’arma fondamentale ed efficace\, e di grande importanza sono le alleanze con le istituzioni\, gli enti sul territorio nazionale e i diversi specialisti ed esperti delle grandi società scientifiche con il fine di proteggere la salute delle persone. \n\nLa GMC è una campagna che coinvolge tutti: nel 2019 sono state organizzate oltre 100 iniziative di prevenzione gratuite. Inoltre\, grande visibilità è stata ottenuta attraverso il lancio del comunicato stampa che ha prodotto una readership e visibilità sui media e sui social di oltre 16 milioni di contatti attraverso articoli e servizi su TV/radio nazionali e regionali\, siti on-line di quotidiani nazionali e portali della salute\, quotidiani nazionali e agenzie. \n\nLa GMC 2020 aderisce alla campagna “25 by 25”\, lanciata dall’Organizzazione Mondiale della Sanità\, che sollecita la collaborazione di tutti i paesi a mettere in atto alleanze e azioni concrete per ridurre\, entro il 2030\, il 25% dei decessi prematuri causati dalle malattie croniche non trasmissibili come le malattie del cuore\, dei vasi e il diabete.
URL:https://portale.fnomceo.it/eventi-fnomceo/giornata-mondiale-per-il-cuore/
END:VEVENT
END:VCALENDAR