BEGIN:VCALENDAR
VERSION:2.0
PRODID:-//FNOMCeO - ECPv5.16.4//NONSGML v1.0//EN
CALSCALE:GREGORIAN
METHOD:PUBLISH
X-WR-CALNAME:FNOMCeO
X-ORIGINAL-URL:https://portale.fnomceo.it
X-WR-CALDESC:Eventi per FNOMCeO
BEGIN:VTIMEZONE
TZID:Europe/Rome
BEGIN:DAYLIGHT
TZOFFSETFROM:+0100
TZOFFSETTO:+0200
TZNAME:CEST
DTSTART:20250330T010000
END:DAYLIGHT
BEGIN:STANDARD
TZOFFSETFROM:+0200
TZOFFSETTO:+0100
TZNAME:CET
DTSTART:20251026T010000
END:STANDARD
END:VTIMEZONE
BEGIN:VEVENT
DTSTART;TZID=Europe/Rome:20251115T090000
DTEND;TZID=Europe/Rome:20251115T170000
DTSTAMP:20260422T213307
CREATED:20251111T133519Z
LAST-MODIFIED:20251111T133519Z
UID:86611-1763197200-1763226000@portale.fnomceo.it
SUMMARY:Gorizia\, Presentazione del volume “De Rei Medicae Goritiensis Memoria”
DESCRIPTION:Presentazione del volume “De Rei Medicae Goritiensis Memoria”\nGorizia\, Polo Universitario\n15 novembre 2025 \nSi terrà sabato 15 novembre 2025 a Gorizia\, presso l’Aula Magna del Polo Universitario di Trieste\, l’evento organizzato dall’OMCeO di Gorizia per la presentazione del volume “De Rei Medicae Goritiensis Memoria. Storia della medicina a Gorizia e nel Goriziano. Zgodovina medicine v Gorici in na Goriškem”. Il libro\, edito dall’Ordine\, ripercorre la storia della medicina goriziana dal Cinquecento a oggi\, valorizzando la collaborazione tra medici italiani e sloveni nello spirito di GO! 2025 Nova Gorica/Gorizia Capitale Europea della Cultura. All’incontro interverranno\, tra gli altri\, Filippo Anelli\, presidente FNOMCeO\, e Giovanni Leoni\, vicepresidente FNOMCeO.
URL:https://portale.fnomceo.it/eventi-fnomceo/gorizia-presentazione-del-volume-de-rei-medicae-goritiensis-memoria/
LOCATION:Gorizia\, Polo Universitario\, Via Alviano\, 11\, Gorizia\, Italia
CATEGORIES:Eventi degli Ordini
GEO:45.9414523;13.6304384
X-APPLE-STRUCTURED-LOCATION;VALUE=URI;X-ADDRESS=Gorizia Polo Universitario Via Alviano 11 Gorizia Italia;X-APPLE-RADIUS=500;X-TITLE=Via Alviano\, 11:geo:13.6304384,45.9414523
END:VEVENT
END:VCALENDAR