BEGIN:VCALENDAR
VERSION:2.0
PRODID:-//FNOMCeO - ECPv5.16.4//NONSGML v1.0//EN
CALSCALE:GREGORIAN
METHOD:PUBLISH
X-WR-CALNAME:FNOMCeO
X-ORIGINAL-URL:https://portale.fnomceo.it
X-WR-CALDESC:Eventi per FNOMCeO
BEGIN:VTIMEZONE
TZID:Europe/Rome
BEGIN:DAYLIGHT
TZOFFSETFROM:+0100
TZOFFSETTO:+0200
TZNAME:CEST
DTSTART:20180325T010000
END:DAYLIGHT
BEGIN:STANDARD
TZOFFSETFROM:+0200
TZOFFSETTO:+0100
TZNAME:CET
DTSTART:20181028T010000
END:STANDARD
END:VTIMEZONE
BEGIN:VEVENT
DTSTART;VALUE=DATE:20180927
DTEND;VALUE=DATE:20180929
DTSTAMP:20260423T060227
CREATED:20180527T182832Z
LAST-MODIFIED:20180527T182832Z
UID:34032-1538006400-1538179199@portale.fnomceo.it
SUMMARY:I Congresso nazionale "Sanità digitale\, equità e universalità del SSN"
DESCRIPTION:Il tema del carattere strategico delle soluzioni di Sanità digitale e Telemedicina è quanto mai cogente sia per consentire una maggiore sostenibilità del SSN che per migliorare l’apropriatezza dei percorsi di cura e l’orientamento all’accesso dei servizi da parte del cittadino. Inoltre\, le soluzioni di Telemdicina\, oltre a favorire i processi di domiciliarizzazione\, consentono alle categorie più deboli e disagiate di godere del servizio di continuità assistenziale e monitorgaggio con una drastica diminuzione sia dei costi che dei disagi. \nAiSDeT promuove la cultura della Sanità digitale e della Telemdicina con l’obiettivo di mettere a sistema gli attori della sanità e delle istituzioni\, afferenti non solo all’ambito clinico\, ma anche a quello del management apicale sanitario e amministrativo delle Aziende\, oltre che dell’ IT\, e alle professioni sanitarie\, nella convinzione che l’integrazione\, sia orizzontale che verticale\, contribuisca a generare un effetto virtuoso di sviluppo di conoscenze e di competenze\, tali da migliorare la capacità di governo\, di cura e di assistenza del SSN .
URL:https://portale.fnomceo.it/eventi-fnomceo/i-congresso-nazionale-sanita-digitale-equita-e-universalita-del-ssn/
END:VEVENT
END:VCALENDAR