BEGIN:VCALENDAR
VERSION:2.0
PRODID:-//FNOMCeO - ECPv5.16.4//NONSGML v1.0//EN
CALSCALE:GREGORIAN
METHOD:PUBLISH
X-WR-CALNAME:FNOMCeO
X-ORIGINAL-URL:https://portale.fnomceo.it
X-WR-CALDESC:Eventi per FNOMCeO
BEGIN:VTIMEZONE
TZID:Europe/Rome
BEGIN:DAYLIGHT
TZOFFSETFROM:+0100
TZOFFSETTO:+0200
TZNAME:CEST
DTSTART:20210328T010000
END:DAYLIGHT
BEGIN:STANDARD
TZOFFSETFROM:+0200
TZOFFSETTO:+0100
TZNAME:CET
DTSTART:20211031T010000
END:STANDARD
END:VTIMEZONE
BEGIN:VEVENT
DTSTART;TZID=Europe/Rome:20211009T083000
DTEND;TZID=Europe/Rome:20211009T173000
DTSTAMP:20260422T130807
CREATED:20210730T122623Z
LAST-MODIFIED:20210923T142532Z
UID:60586-1633768200-1633800600@portale.fnomceo.it
SUMMARY:Imperia\, Convegno “L’esperienza della emergenzialità durante e dopo la pandemia da Covid-19. Aspetti clinici\, etici e deontologici”
DESCRIPTION:L’ESPERIENZA DELLA EMERGENZIALITÀ DURANTE E DOPO LA PANDEMIA DA COVID19\nAspetti clinici\, etici e deontologici \nIn una fase oramai avanzata di risposta sanitaria alla pandemia da Covid-19\, il convegno si propone di discutere sull’impatto che essa ha avuto sull’assetto organizzativo e assistenziale del Servizio sanitario nazionale e sulla quotidianità professionale e personale degli operatori sanitari.\nIl confronto tra competenze e saperi differenti diviene lo strumento per comprendere e riflettere sulle esperienze vissute e sugli insegnamenti ricevuti nonché per dialogare insieme sulle molteplici questioni etiche\, deontologiche e giuridiche evocate dalla pandemia.\nLa giornata vuole essere anche una prima occasione che il rinnovato Gruppo di Lavoro Etica e Deontologia dell’Ordine Provinciale dei Medici e degli Odontoiatri di Imperia vuole realizzare per individuare\, attraverso la pubblicazione di linee guida monotematiche\, strumenti e strategie operative in grado di supportare efficacemente il personale sanitario.
URL:https://portale.fnomceo.it/eventi-fnomceo/imperia-convegno-lesperienza-della-emergenzialita-durante-e-dopo-la-pandemia-da-covid-19-aspetti-clinici-etici-e-deontologici/
LOCATION:Sanremo\, Teatro Ariston\, Via Giacomo Matteotti\, 212\, Sanremo\, 18038\, Italia
CATEGORIES:Eventi degli Ordini,Formazione e aggiornamento
GEO:43.8175735;7.7776063
X-APPLE-STRUCTURED-LOCATION;VALUE=URI;X-ADDRESS=Sanremo Teatro Ariston Via Giacomo Matteotti 212 Sanremo 18038 Italia;X-APPLE-RADIUS=500;X-TITLE=Via Giacomo Matteotti\, 212:geo:7.7776063,43.8175735
END:VEVENT
END:VCALENDAR