BEGIN:VCALENDAR
VERSION:2.0
PRODID:-//FNOMCeO - ECPv5.16.4//NONSGML v1.0//EN
CALSCALE:GREGORIAN
METHOD:PUBLISH
X-WR-CALNAME:FNOMCeO
X-ORIGINAL-URL:https://portale.fnomceo.it
X-WR-CALDESC:Eventi per FNOMCeO
BEGIN:VTIMEZONE
TZID:Europe/Rome
BEGIN:DAYLIGHT
TZOFFSETFROM:+0100
TZOFFSETTO:+0200
TZNAME:CEST
DTSTART:20200329T010000
END:DAYLIGHT
BEGIN:STANDARD
TZOFFSETFROM:+0200
TZOFFSETTO:+0100
TZNAME:CET
DTSTART:20201025T010000
END:STANDARD
END:VTIMEZONE
BEGIN:VEVENT
DTSTART;TZID=Europe/Rome:20201116T100000
DTEND;TZID=Europe/Rome:20201118T190000
DTSTAMP:20260422T210444
CREATED:20201110T154033Z
LAST-MODIFIED:20201110T154033Z
UID:54622-1605520800-1605726000@portale.fnomceo.it
SUMMARY:IV Conferenza sull’Assistenza Primaria “Sfida alla cronicità”
DESCRIPTION:Con il continuo aumentare dell’aspettativa media di vita\, si è registrato un concomitante aumento delle cronicità\, spesso in forma di polipatologie\, con distribuzioni asimmetriche nelle diverse regioni\, nei diversi gruppi sociali\, nelle stratificazioni per età e per sesso\, con conseguente aumento dei costi dell’assistenza socio-sanitaria. Al contempo\, la recente emergenza sanitaria globale scatenata dall’epidemia di Sars-Cov-2 ha messo in luce le profonde necessità di revisione\, ed integrazione del sistema di assistenza primaria\, nella prospettiva di un’attualizzazione del servizio e di una futura gestione integrata che orienti i modelli regionali ad una trasformazione virtuosa sulla base delle potenzialità di “apprendimento” legate all’impeto della emergenza affrontata. \n\nIn quest’ottica si colloca la IV Conferenza sull’Assistenza Primaria “Sfida alla cronicità” che affronterà diverse problematiche: \n\n1. Come meglio organizzare i trattamenti clinico-assistenziali su individui e popolazioni nella prospettiva del “valore” in sanità;\n2. Come meglio utilizzare big data\, intelligenza artificiale e digitalizzazione a supporto degli interventi preventivi\, curativi\, riabilitativi e palliativi nelle situazioni di cronicità;\n3. Come meglio integrare le prospettive di salute della popolazione affetta da condizioni di cronicità con le istanze di sostenibilità sociale ed ambientale. \n\nPer essere efficiente nello svolgimento di questi compiti\, il sistema dell’assistenza primaria deve coinvolgere attivamente il malato e la sua famiglia\, attraverso un forte radicamento territoriale.
URL:https://portale.fnomceo.it/eventi-fnomceo/iv-conferenza-sullassistenza-primaria-sfida-alla-cronicita/
LOCATION:Web\, Italia
CATEGORIES:Formazione e aggiornamento
GEO:41.87194;12.56738
END:VEVENT
END:VCALENDAR