BEGIN:VCALENDAR
VERSION:2.0
PRODID:-//FNOMCeO - ECPv5.16.4//NONSGML v1.0//EN
CALSCALE:GREGORIAN
METHOD:PUBLISH
X-WR-CALNAME:FNOMCeO
X-ORIGINAL-URL:https://portale.fnomceo.it
X-WR-CALDESC:Eventi per FNOMCeO
BEGIN:VTIMEZONE
TZID:Europe/Rome
BEGIN:DAYLIGHT
TZOFFSETFROM:+0100
TZOFFSETTO:+0200
TZNAME:CEST
DTSTART:20200329T010000
END:DAYLIGHT
BEGIN:STANDARD
TZOFFSETFROM:+0200
TZOFFSETTO:+0100
TZNAME:CET
DTSTART:20201025T010000
END:STANDARD
END:VTIMEZONE
BEGIN:VEVENT
DTSTART;TZID=Europe/Rome:20200718T083000
DTEND;TZID=Europe/Rome:20200718T130000
DTSTAMP:20260422T141716
CREATED:20200629T083930Z
LAST-MODIFIED:20200629T083930Z
UID:51819-1595061000-1595077200@portale.fnomceo.it
SUMMARY:La donazione del sangue e degli emocomponenti: evoluzione\, prospettive e nuove sfide
DESCRIPTION:
URL:https://portale.fnomceo.it/eventi-fnomceo/la-donazione-del-sangue-e-degli-emocomponenti-evoluzione-prospettive-e-nuove-sfide/
CATEGORIES:Eventi degli Ordini,Formazione e aggiornamento
ORGANIZER;CN="OMCeO%20Latina":MAILTO:info@ordinemedicilatina.it
END:VEVENT
END:VCALENDAR