BEGIN:VCALENDAR
VERSION:2.0
PRODID:-//FNOMCeO - ECPv5.16.4//NONSGML v1.0//EN
CALSCALE:GREGORIAN
METHOD:PUBLISH
X-WR-CALNAME:FNOMCeO
X-ORIGINAL-URL:https://portale.fnomceo.it
X-WR-CALDESC:Eventi per FNOMCeO
BEGIN:VTIMEZONE
TZID:Europe/Rome
BEGIN:DAYLIGHT
TZOFFSETFROM:+0100
TZOFFSETTO:+0200
TZNAME:CEST
DTSTART:20180325T010000
END:DAYLIGHT
BEGIN:STANDARD
TZOFFSETFROM:+0200
TZOFFSETTO:+0100
TZNAME:CET
DTSTART:20181028T010000
END:STANDARD
END:VTIMEZONE
BEGIN:VEVENT
DTSTART;VALUE=DATE:20180414
DTEND;VALUE=DATE:20180415
DTSTAMP:20260423T203524
CREATED:20180226T082228Z
LAST-MODIFIED:20180226T082228Z
UID:31761-1523664000-1523750399@portale.fnomceo.it
SUMMARY:La medicina di genere: una "medicina su misura"
DESCRIPTION:La partecipazione al corso è gratuita e sono stati richiesti i crediti ECM riservati a 100 medici chirurghi e odontoiatri. La richiesta di iscrizione va inoltrata via email a info@omceo.rn.it o telefonando alla segreteria dell’Ordine: tel. 0541.382144.
URL:https://portale.fnomceo.it/eventi-fnomceo/la-medicina-genere-medicina-misura/
LOCATION:Centro Congressi SGR\, via Chiabrera 34\, Rimini\, Italia
ORGANIZER;CN="Centro%20Formazione%20Medicina%20di%20Genere%20-%20Omceo%20Rimini":MAILTO:info@omceo.rn.it
GEO:44.0476714;12.5947863
X-APPLE-STRUCTURED-LOCATION;VALUE=URI;X-ADDRESS=Centro Congressi SGR via Chiabrera 34 Rimini Italia;X-APPLE-RADIUS=500;X-TITLE=via Chiabrera 34:geo:12.5947863,44.0476714
END:VEVENT
END:VCALENDAR